BEGIN:VCALENDAR
VERSION:2.0
PRODID:-//Marine Corps League Seacoast Detachment 394 - ECPv6.15.20//NONSGML v1.0//EN
CALSCALE:GREGORIAN
METHOD:PUBLISH
X-WR-CALNAME:Marine Corps League Seacoast Detachment 394
X-ORIGINAL-URL:https://www.seacoastmarines.org
X-WR-CALDESC:Events for Marine Corps League Seacoast Detachment 394
REFRESH-INTERVAL;VALUE=DURATION:PT1H
X-Robots-Tag:noindex
X-PUBLISHED-TTL:PT1H
BEGIN:VTIMEZONE
TZID:America/New_York
BEGIN:DAYLIGHT
TZOFFSETFROM:-0500
TZOFFSETTO:-0400
TZNAME:EDT
DTSTART:20220313T070000
END:DAYLIGHT
BEGIN:STANDARD
TZOFFSETFROM:-0400
TZOFFSETTO:-0500
TZNAME:EST
DTSTART:20221106T060000
END:STANDARD
BEGIN:DAYLIGHT
TZOFFSETFROM:-0500
TZOFFSETTO:-0400
TZNAME:EDT
DTSTART:20230312T070000
END:DAYLIGHT
BEGIN:STANDARD
TZOFFSETFROM:-0400
TZOFFSETTO:-0500
TZNAME:EST
DTSTART:20231105T060000
END:STANDARD
BEGIN:DAYLIGHT
TZOFFSETFROM:-0500
TZOFFSETTO:-0400
TZNAME:EDT
DTSTART:20240310T070000
END:DAYLIGHT
BEGIN:STANDARD
TZOFFSETFROM:-0400
TZOFFSETTO:-0500
TZNAME:EST
DTSTART:20241103T060000
END:STANDARD
BEGIN:DAYLIGHT
TZOFFSETFROM:-0500
TZOFFSETTO:-0400
TZNAME:EDT
DTSTART:20250309T070000
END:DAYLIGHT
BEGIN:STANDARD
TZOFFSETFROM:-0400
TZOFFSETTO:-0500
TZNAME:EST
DTSTART:20251102T060000
END:STANDARD
END:VTIMEZONE
BEGIN:VTIMEZONE
TZID:America/New_York
BEGIN:DAYLIGHT
TZOFFSETFROM:-0500
TZOFFSETTO:-0400
TZNAME:EDT
DTSTART:20220313T070000
END:DAYLIGHT
BEGIN:STANDARD
TZOFFSETFROM:-0400
TZOFFSETTO:-0500
TZNAME:EST
DTSTART:20221106T060000
END:STANDARD
BEGIN:DAYLIGHT
TZOFFSETFROM:-0500
TZOFFSETTO:-0400
TZNAME:EDT
DTSTART:20230312T070000
END:DAYLIGHT
BEGIN:STANDARD
TZOFFSETFROM:-0400
TZOFFSETTO:-0500
TZNAME:EST
DTSTART:20231105T060000
END:STANDARD
BEGIN:DAYLIGHT
TZOFFSETFROM:-0500
TZOFFSETTO:-0400
TZNAME:EDT
DTSTART:20240310T070000
END:DAYLIGHT
BEGIN:STANDARD
TZOFFSETFROM:-0400
TZOFFSETTO:-0500
TZNAME:EST
DTSTART:20241103T060000
END:STANDARD
BEGIN:DAYLIGHT
TZOFFSETFROM:-0500
TZOFFSETTO:-0400
TZNAME:EDT
DTSTART:20250309T070000
END:DAYLIGHT
BEGIN:STANDARD
TZOFFSETFROM:-0400
TZOFFSETTO:-0500
TZNAME:EST
DTSTART:20251102T060000
END:STANDARD
END:VTIMEZONE
BEGIN:VTIMEZONE
TZID:UTC
BEGIN:STANDARD
TZOFFSETFROM:+0000
TZOFFSETTO:+0000
TZNAME:UTC
DTSTART:20220101T000000
END:STANDARD
END:VTIMEZONE
BEGIN:VEVENT
DTSTART;TZID=America/New_York:20240410T090000
DTEND;TZID=America/New_York:20240410T100000
DTSTAMP:20260425T103010
CREATED:20240409T130150Z
LAST-MODIFIED:20240409T130150Z
UID:3497-1712739600-1712743200@www.seacoastmarines.org
SUMMARY:Weekly Detachment Breakfast
DESCRIPTION:Come out and join the Seacoast Detachment #394 for breakfast for some great food and conversation.
URL:https://www.seacoastmarines.org/event/weekly-detachment-breakfast-20/
LOCATION:Golden Egg Diner\, 72 Mirona Rd.\, Portsmouth\, NH\, United States
END:VEVENT
BEGIN:VEVENT
DTSTART;TZID=America/New_York:20240408T190000
DTEND;TZID=America/New_York:20240408T210000
DTSTAMP:20260425T103010
CREATED:20240213T133113Z
LAST-MODIFIED:20240213T133113Z
UID:3425-1712602800-1712610000@www.seacoastmarines.org
SUMMARY:Seacoast April Monthly Board and Membership Meeting
DESCRIPTION:Please join us for the Seacoast Detachment monthly membership meeting where we discuss upcoming events and the running of the organization.  Join us and share your ideas\, we would love to hear them.
URL:https://www.seacoastmarines.org/event/seacoast-april-monthly-board-and-membership-meeting/
LOCATION:American Legion Post #6\, 96 Islington\, Street\, Portsmouth\, NH\, United States
END:VEVENT
BEGIN:VEVENT
DTSTART;TZID=America/New_York:20240403T090000
DTEND;TZID=America/New_York:20240403T100000
DTSTAMP:20260425T103010
CREATED:20240313T210508Z
LAST-MODIFIED:20240313T212858Z
UID:3446-1712134800-1712138400@www.seacoastmarines.org
SUMMARY:Weekly Detachment Breakfast
DESCRIPTION:Come out and join the Seacoast Detachment #394 for breakfast for some great food and conversation.
URL:https://www.seacoastmarines.org/event/weekly-detachment-breakfast-19/
LOCATION:Mainely Local Yokes\, 43 Route 236\, Berwick\, ME\, United States
END:VEVENT
BEGIN:VEVENT
DTSTART;TZID=America/New_York:20240329T110000
DTEND;TZID=America/New_York:20240329T130000
DTSTAMP:20260425T103010
CREATED:20240318T132755Z
LAST-MODIFIED:20240318T132755Z
UID:3457-1711710000-1711717200@www.seacoastmarines.org
SUMMARY:NH VETERANS HOME CEREMONY TO HONOR VIETNAM VETERANS
DESCRIPTION:Friday 29 March 2024 \nNH Veterans Home (https://www.nh.gov/veterans/) to honor those who served in ‘Nam. Veterans throughout the state and the general public are invited to attend the New Hampshire Veterans Home’s Vietnam War Veterans Day Ceremony beginning at 11:00 am at 139 Winter Street in Tilton\, NH (https://www.nh.gov/veterans/news/documents/recreation-calendar.pdf).
URL:https://www.seacoastmarines.org/event/nh-veterans-home-ceremony-to-honor-vietnam-veterans/
LOCATION:NH Veterans Home\, 139 Winter Street\, Tilton\, NH\, United States
END:VEVENT
BEGIN:VEVENT
DTSTART;TZID=America/New_York:20240327T090000
DTEND;TZID=America/New_York:20240327T100000
DTSTAMP:20260425T103010
CREATED:20240313T210418Z
LAST-MODIFIED:20240313T212831Z
UID:3444-1711530000-1711533600@www.seacoastmarines.org
SUMMARY:Weekly Detachment Breakfast
DESCRIPTION:Come out and join the Seacoast Detachment #394 for breakfast for some great food and conversation.
URL:https://www.seacoastmarines.org/event/weekly-detachment-breakfast-18/
LOCATION:Mainely Local Yokes\, 43 Route 236\, Berwick\, ME\, United States
END:VEVENT
BEGIN:VEVENT
DTSTART;TZID=America/New_York:20240324T110000
DTEND;TZID=America/New_York:20240324T123000
DTSTAMP:20260425T103010
CREATED:20231220T155122Z
LAST-MODIFIED:20231220T155122Z
UID:3249-1711278000-1711283400@www.seacoastmarines.org
SUMMARY:Department of NH MCL BOT Meeting
DESCRIPTION:Join us at the Department of NH MCL Board meeting in Concord.  We welcome all NH members and we want to hear your ideas.
URL:https://www.seacoastmarines.org/event/department-of-nh-mcl-bot-meeting/
LOCATION:American Legion #21 Concord\, 7 Perley Street\, Concord\, NH\, United States
ORGANIZER;CN="Department of NH":MAILTO:commandant@nhmarines.org
END:VEVENT
BEGIN:VEVENT
DTSTART;TZID=America/New_York:20240320T090000
DTEND;TZID=America/New_York:20240320T100000
DTSTAMP:20260425T103010
CREATED:20240313T210341Z
LAST-MODIFIED:20240313T212804Z
UID:3442-1710925200-1710928800@www.seacoastmarines.org
SUMMARY:Weekly Detachment Breakfast
DESCRIPTION:Come out and join the Seacoast Detachment #394 for breakfast for some great food and conversation.
URL:https://www.seacoastmarines.org/event/weekly-detachment-breakfast-17/
LOCATION:Mainely Local Yokes\, 43 Route 236\, Berwick\, ME\, United States
END:VEVENT
BEGIN:VEVENT
DTSTART;TZID=America/New_York:20240318T123000
DTEND;TZID=America/New_York:20240318T143000
DTSTAMP:20260425T103010
CREATED:20240314T210244Z
LAST-MODIFIED:20240314T210244Z
UID:3450-1710765000-1710772200@www.seacoastmarines.org
SUMMARY:Firing Detail for Col Walter Gallo\, USMCR (Ret)
DESCRIPTION:All Hands\, \n   Volunteers are needed as follows: \nWHO: Marine Corps League volunteers for a Firing Detail in honor of Col Walter Gallo\, USMCR (Ret). Obituary for Col Gallo is attached. Also visit the Funeral Home website to express personal condolences:  https://obits.lambertfuneralhome.com/col-walter-gallo-sr. \nWHAT:  Perform a final fitting tribute for a Career Marine Veteran. \nWHEN:  Monday\, 18 Mar 2024 at 1300 (volunteers need to be present NLT 1230). \nWHERE:  NH State Veterans Cemetery\, Boscawen\, NH (https://www.nhsvc.com/) \nWHY:  To honor the service and sacrifices of a retired Marine Veteran. \nSITUATION:  On order perform a professionally executed firing detail to honor the service of Col Walter Gallo\, USMCR (Ret).    \nMISSION:  Provide a firing detail at the interment site (NH State Vet Cemetery (NHSVC)) in Boscawen\, NH in direct support of Lambert’s Funeral Home\, the NHSVC and the Gallo family. \nEXECUTION:  Form up at the Assembly Area (Admin Building NHSVC) NLT 1230\, Monday 18 Mar 2024 for issuance of ceremonial firearms and rehearsals; professionally displace to site of ceremony; perform a well executed firing detail in coordination with  Lambert’s Funeral Home and the NHSVC; conduct a brass police call immediately after the ceremony; return ceremonial firearms to weapons custodian for further transport to storage site. \nADMIN AND LOGISTICS:  Uniform is longsleeve undress uniform (with tie)\, white ceremonial duty belt\, white gloves\, red satin jacket; assemble NLT 1230 at NHSVC Admin building; conduct police call immediately following ceremony; return firearms to weapons custodian (Dillon Marine MSgt Mark Lindsley\, USMCR (Ret)). \nCOMMAND AND SIGNAL:  All commands are by voice.  Point of main effort is Dillon Det who will provide ceremonial firearms; NCOIC is Dillon Weapons Custodian\, MSgt Mark Lindsley\, USMCR (Ret); notify MarkL72864@gmail.com NLT Thursday\, 14 Mar 2024 of your availability to support.  This formation is open to all Department of NH Marine Corps League members.  Please info Department Commandant Cherie Monnell (MarineAmazon@comcast.net) and Department SVC Gary Gahan (captainsven@hotmail.com) if volunteering. 
URL:https://www.seacoastmarines.org/event/firing-detail-for-col-walter-gallo-usmcr-ret/
LOCATION:NH State Veterans Cemetery\, Boscawen\, NH
END:VEVENT
BEGIN:VEVENT
DTSTART;TZID=America/New_York:20240318T090000
DTEND;TZID=America/New_York:20240318T170000
DTSTAMP:20260425T103010
CREATED:20240304T195332Z
LAST-MODIFIED:20240304T195332Z
UID:3429-1710752400-1710781200@www.seacoastmarines.org
SUMMARY:Free Skiing / Riding Day for Veterans
DESCRIPTION:email info@lrvcnh.org or call 603-520-3989 if you are interested
URL:https://www.seacoastmarines.org/event/free-skiing-riding-day-for-veterans/
LOCATION:Gunstock Mountain Resort
END:VEVENT
BEGIN:VEVENT
DTSTART;TZID=America/New_York:20240313T090000
DTEND;TZID=America/New_York:20240313T100000
DTSTAMP:20260425T103010
CREATED:20240313T210247Z
LAST-MODIFIED:20240313T212929Z
UID:3440-1710320400-1710324000@www.seacoastmarines.org
SUMMARY:Weekly Detachment Breakfast
DESCRIPTION:Come out and join the Seacoast Detachment #394 for breakfast for some great food and conversation.
URL:https://www.seacoastmarines.org/event/weekly-detachment-breakfast-16/
LOCATION:Mainely Local Yokes\, 43 Route 236\, Berwick\, ME\, United States
END:VEVENT
BEGIN:VEVENT
DTSTART;TZID=America/New_York:20240311T190000
DTEND;TZID=America/New_York:20240311T210000
DTSTAMP:20260425T103010
CREATED:20240213T133005Z
LAST-MODIFIED:20240213T133005Z
UID:3423-1710183600-1710190800@www.seacoastmarines.org
SUMMARY:Seacoast March Monthly Board and Membership Meeting
DESCRIPTION:Please join us for the Seacoast Detachment monthly membership meeting where we discuss upcoming events and the running of the organization.  Join us and share your ideas\, we would love to hear them.
URL:https://www.seacoastmarines.org/event/seacoast-march-monthly-board-and-membership-meeting/
LOCATION:American Legion Post #6\, 96 Islington\, Street\, Portsmouth\, NH\, United States
END:VEVENT
BEGIN:VEVENT
DTSTART;TZID=America/New_York:20240306T090000
DTEND;TZID=America/New_York:20240306T100000
DTSTAMP:20260425T103010
CREATED:20240213T132736Z
LAST-MODIFIED:20240213T132736Z
UID:3421-1709715600-1709719200@www.seacoastmarines.org
SUMMARY:Weekly Detachment Breakfast
DESCRIPTION:Come out and join the Seacoast Detachment #394 for breakfast for some great food and conversation.
URL:https://www.seacoastmarines.org/event/weekly-detachment-breakfast-15/
LOCATION:Golden Egg Diner\, 72 Mirona Rd.\, Portsmouth\, NH\, United States
END:VEVENT
BEGIN:VEVENT
DTSTART;TZID=America/New_York:20240228T090000
DTEND;TZID=America/New_York:20240228T100000
DTSTAMP:20260425T103010
CREATED:20240213T132654Z
LAST-MODIFIED:20240213T132654Z
UID:3419-1709110800-1709114400@www.seacoastmarines.org
SUMMARY:Weekly Detachment Breakfast
DESCRIPTION:Come out and join the Seacoast Detachment #394 for breakfast for some great food and conversation.
URL:https://www.seacoastmarines.org/event/weekly-detachment-breakfast-14/
LOCATION:Golden Egg Diner\, 72 Mirona Rd.\, Portsmouth\, NH\, United States
END:VEVENT
BEGIN:VEVENT
DTSTART;TZID=America/New_York:20240221T090000
DTEND;TZID=America/New_York:20240221T100000
DTSTAMP:20260425T103010
CREATED:20240213T132618Z
LAST-MODIFIED:20240213T132618Z
UID:3417-1708506000-1708509600@www.seacoastmarines.org
SUMMARY:Weekly Detachment Breakfast
DESCRIPTION:Come out and join the Seacoast Detachment #394 for breakfast for some great food and conversation.
URL:https://www.seacoastmarines.org/event/weekly-detachment-breakfast-13/
LOCATION:Golden Egg Diner\, 72 Mirona Rd.\, Portsmouth\, NH\, United States
END:VEVENT
BEGIN:VEVENT
DTSTART;TZID=America/New_York:20240214T090000
DTEND;TZID=America/New_York:20240214T100000
DTSTAMP:20260425T103010
CREATED:20240213T132530Z
LAST-MODIFIED:20240213T132530Z
UID:3415-1707901200-1707904800@www.seacoastmarines.org
SUMMARY:Weekly Detachment Breakfast
DESCRIPTION:Come out and join the Seacoast Detachment #394 for breakfast for some great food and conversation.
URL:https://www.seacoastmarines.org/event/weekly-detachment-breakfast-12/
LOCATION:Golden Egg Diner\, 72 Mirona Rd.\, Portsmouth\, NH\, United States
END:VEVENT
BEGIN:VEVENT
DTSTART;TZID=UTC:20240212T190000
DTEND;TZID=UTC:20240212T210000
DTSTAMP:20260425T103010
CREATED:20231121T193113Z
LAST-MODIFIED:20231121T193113Z
UID:3166-1707764400-1707771600@www.seacoastmarines.org
SUMMARY:Seacoast February Monthly Board and Membership Meeting
DESCRIPTION:Please join us for the Seacoast Detachment monthly membership meeting where we discuss upcoming events and the running of the organization.  Join us and share your ideas\, we would love to hear them.
URL:https://www.seacoastmarines.org/event/seacoast-february-monthly-board-and-membership-meeting/
LOCATION:American Legion Post #6\, 96 Islington\, Street\, Portsmouth\, NH\, United States
END:VEVENT
BEGIN:VEVENT
DTSTART;TZID=America/New_York:20240207T090000
DTEND;TZID=America/New_York:20240207T100000
DTSTAMP:20260425T103010
CREATED:20240109T164632Z
LAST-MODIFIED:20240109T164632Z
UID:3315-1707296400-1707300000@www.seacoastmarines.org
SUMMARY:Weekly Detachment Breakfast
DESCRIPTION:Come out and join the Seacoast Detachment #394 for breakfast for some great food and conversation.
URL:https://www.seacoastmarines.org/event/weekly-detachment-breakfast-11/
LOCATION:Golden Egg Diner\, 72 Mirona Rd.\, Portsmouth\, NH\, United States
END:VEVENT
BEGIN:VEVENT
DTSTART;TZID=America/New_York:20240131T090000
DTEND;TZID=America/New_York:20240131T100000
DTSTAMP:20260425T103010
CREATED:20240109T164551Z
LAST-MODIFIED:20240109T164551Z
UID:3313-1706691600-1706695200@www.seacoastmarines.org
SUMMARY:Weekly Detachment Breakfast
DESCRIPTION:Come out and join the Seacoast Detachment #394 for breakfast for some great food and conversation.
URL:https://www.seacoastmarines.org/event/weekly-detachment-breakfast-10/
LOCATION:Golden Egg Diner\, 72 Mirona Rd.\, Portsmouth\, NH\, United States
END:VEVENT
BEGIN:VEVENT
DTSTART;TZID=America/New_York:20240124T090000
DTEND;TZID=America/New_York:20240124T100000
DTSTAMP:20260425T103010
CREATED:20240109T164430Z
LAST-MODIFIED:20240109T164430Z
UID:3311-1706086800-1706090400@www.seacoastmarines.org
SUMMARY:Weekly Detachment Breakfast
DESCRIPTION:Come out and join the Seacoast Detachment #394 for breakfast for some great food and conversation.
URL:https://www.seacoastmarines.org/event/weekly-detachment-breakfast-9/
LOCATION:Golden Egg Diner\, 72 Mirona Rd.\, Portsmouth\, NH\, United States
END:VEVENT
BEGIN:VEVENT
DTSTART;TZID=America/New_York:20240117T090000
DTEND;TZID=America/New_York:20240117T100000
DTSTAMP:20260425T103010
CREATED:20240109T164346Z
LAST-MODIFIED:20240109T164346Z
UID:3309-1705482000-1705485600@www.seacoastmarines.org
SUMMARY:Weekly Detachment Breakfast
DESCRIPTION:Come out and join the Seacoast Detachment #394 for breakfast for some great food and conversation.
URL:https://www.seacoastmarines.org/event/weekly-detachment-breakfast-8/
LOCATION:Golden Egg Diner\, 72 Mirona Rd.\, Portsmouth\, NH\, United States
END:VEVENT
BEGIN:VEVENT
DTSTART;TZID=America/New_York:20240110T090000
DTEND;TZID=America/New_York:20240110T100000
DTSTAMP:20260425T103010
CREATED:20240109T164245Z
LAST-MODIFIED:20240109T164245Z
UID:3307-1704877200-1704880800@www.seacoastmarines.org
SUMMARY:Weekly Detachment Breakfast
DESCRIPTION:Come out and join the Seacoast Detachment #394 for breakfast for some great food and conversation.
URL:https://www.seacoastmarines.org/event/weekly-detachment-breakfast-7/
LOCATION:Golden Egg Diner\, 72 Mirona Rd.\, Portsmouth\, NH\, United States
END:VEVENT
BEGIN:VEVENT
DTSTART;TZID=UTC:20240108T190000
DTEND;TZID=UTC:20240108T210000
DTSTAMP:20260425T103010
CREATED:20231121T192956Z
LAST-MODIFIED:20231121T192956Z
UID:3164-1704740400-1704747600@www.seacoastmarines.org
SUMMARY:Seacoast January Monthly Board and Membership Meeting
DESCRIPTION:Please join us for the Seacoast Detachment monthly membership meeting where we discuss upcoming events and the running of the organization.  Join us and share your ideas\, we would love to hear them.
URL:https://www.seacoastmarines.org/event/seacoast-january-monthly-board-and-membership-meeting/
LOCATION:American Legion Post #6\, 96 Islington\, Street\, Portsmouth\, NH\, United States
END:VEVENT
BEGIN:VEVENT
DTSTART;TZID=America/New_York:20240103T090000
DTEND;TZID=America/New_York:20240103T100000
DTSTAMP:20260425T103010
CREATED:20231218T210618Z
LAST-MODIFIED:20231218T210618Z
UID:3242-1704272400-1704276000@www.seacoastmarines.org
SUMMARY:Weekly Detachment Breakfast
DESCRIPTION:Come out and join the Seacoast Detachment #394 for breakfast for some great food and conversation.
URL:https://www.seacoastmarines.org/event/weekly-detachment-breakfast-6/
LOCATION:Mainely Local Yokes\, 43 Route 236\, Berwick\, ME\, United States
END:VEVENT
BEGIN:VEVENT
DTSTART;TZID=America/New_York:20231227T090000
DTEND;TZID=America/New_York:20231227T100000
DTSTAMP:20260425T103010
CREATED:20231218T185547Z
LAST-MODIFIED:20231218T185547Z
UID:3237-1703667600-1703671200@www.seacoastmarines.org
SUMMARY:Weekly Detachment Breakfast
DESCRIPTION:Come out and join the Seacoast Detachment #394 for breakfast for some great food and conversation.
URL:https://www.seacoastmarines.org/event/weekly-detachment-breakfast-4/
LOCATION:Mainely Local Yokes\, 43 Route 236\, Berwick\, ME\, United States
END:VEVENT
BEGIN:VEVENT
DTSTART;TZID=America/New_York:20231220T120000
DTEND;TZID=America/New_York:20231220T130000
DTSTAMP:20260425T103010
CREATED:20231216T003541Z
LAST-MODIFIED:20231216T003541Z
UID:3233-1703073600-1703077200@www.seacoastmarines.org
SUMMARY:Building Bridges Veterans Initiative  - Veterans' Free Lunch – (LASAGNA)
DESCRIPTION:NOW HEAR THIS: \nWHO:     Any and all Veterans \nWHAT:  Veterans’ Free Lunch – (LASAGNA) \nWHEN:  Wed 12/20/2023 12:00 AM – 1:00 PM \nWHERE: Hobbs House 200 High Street\, Hampton\, NH 03842 (http://www.hamptoncommunitycoalition.org/) \nWHY:      This is a monthly offering (third Wednesday of the month) to honor our Veterans. \nThis is one simple and easy way to meet and greet some new and old Brothers and Sisters. I know that I’ll be there; come on down and say hello. \n -Rich P.\, Corporal \nUnited States Marine Corps \nAnd damned proud of it.” \nThe above announcement is provided by Marine Rich Pettengill and it is a good example of what our area provides to Veterans. For a further explanation of what this luncheon entails\, please see below: \n“Outreach beyond our walls \nBuilding Bridges Veterans Initiative                \nAs part of the Building Bridges Veterans initiative (https://buildingbridgesveterans.org/)\, we provide a  comfortable\, respectful\, and non-judgmental space for veterans to gather for lunch\, conversation\, support and friendship. \nAmerican veterans are a critically under-served and tragically marginalized population that we\, at Trinity (https://trinityhampton.org/ministries/)\, feel called to embrace. The high rate of suicide\, the rampant problem of veteran homelessness\, drug and alcohol addiction\, and the epidemic isolation that veterans face are all areas that we need to address within our community and across the country! \nWe’ll begin with getting comfortable getting together on the third Wednesday of each month for Lunch at Hobbs House once a month. We’d like to hear what the needs of our hometown vets are and then begin to find ways to address them. If all they want is another place to socialize over lunch\, that’s fine too. Let’s take this journey together! \nThis is a community project. If you would like to get involved\, let us know by contacting us at trinity55ad@gmail.com or call us at 603-926-5688.” \nThe 20 Dec luncheon is the last one of the year at Hobbs House\, but they will resume in the Spring. Follow the Building Bridges Events Calendar to find out when the luncheons return to Hobbs House:   https://buildingbridgesveterans.org/events/.  \nEnjoy this free offering and the opportunity to speak with fellow veterans. Also have a safe and enjoyable Holiday Season. See you next year! \nSemper fi\, \nDick Lak \nCommandant \nSeacoast Detachment # 394 \nMarine Corps League
URL:https://www.seacoastmarines.org/event/building-bridges-veterans-initiative-veterans-free-lunch-lasagna/
LOCATION:Hobbs House\, 200 High Street\, Hampton\, NH\, United States
END:VEVENT
BEGIN:VEVENT
DTSTART;TZID=America/New_York:20231220T084500
DTEND;TZID=America/New_York:20231220T220000
DTSTAMP:20260425T103010
CREATED:20231218T185958Z
LAST-MODIFIED:20231218T185958Z
UID:3239-1703061900-1703109600@www.seacoastmarines.org
SUMMARY:Weekly Detachment Breakfast
DESCRIPTION:Thanks to our JPC Bob Niver\, we will move our breakfast location for one week\, to be able to share breakfast with one of our longtime members and Wednesday breakfast regular\, George McCreary. George is currently housed at Partridge House located at 777 Layfayette Road in Hampton\, NH (https://www.partridgehousenh.com/). The staff will accommodate our presence with breakfast fare. Below are some of the details needed (provided by our JPC Bob Niver) if you want to attend:  \n“George’s facility is located at 777 Lafayette Road\, Hampton. Please bring an unwrapped toy and be there around 8:45. I think we will eat in the regular dining room with a special menu. The toys will be taken to the Winnacunnet Fire Hall.Thanks for making this happen. George was excited when I talked to him today.    Bob” \nAs we age and become less mobile\, we need to remember our promise to take care of each other as fellow Marines. George has been active in the Detachment since 2014 and a Lifetime member since 2017. We owe George a debt of gratitude for his service and loyalty to the League/ Detachment and our presence will also help with local toy drives for Christmas 2023. We hope to see you there. \nSemper fi\, \nDick Lak \nCommandant
URL:https://www.seacoastmarines.org/event/weekly-detachment-breakfast-5/
LOCATION:Partridge House\, 777 Lafayette Road\, Hampton\, NH\, United States
END:VEVENT
BEGIN:VEVENT
DTSTART;TZID=UTC:20231211T190000
DTEND;TZID=UTC:20231211T210000
DTSTAMP:20260425T103010
CREATED:20231121T192857Z
LAST-MODIFIED:20231121T192857Z
UID:3162-1702321200-1702328400@www.seacoastmarines.org
SUMMARY:Seacoast December Monthly Board and Membership Meeting
DESCRIPTION:Please join us for the Seacoast Detachment monthly membership meeting where we discuss upcoming events and the running of the organization.  Join us and share your ideas\, we would love to hear them.
URL:https://www.seacoastmarines.org/event/seacoast-december-monthly-board-and-membership-meeting/
LOCATION:American Legion Post #6\, 96 Islington\, Street\, Portsmouth\, NH\, United States
END:VEVENT
BEGIN:VEVENT
DTSTART;TZID=UTC:20231206T090000
DTEND;TZID=UTC:20231206T100000
DTSTAMP:20260425T103010
CREATED:20231121T192505Z
LAST-MODIFIED:20231121T192505Z
UID:3160-1701853200-1701856800@www.seacoastmarines.org
SUMMARY:Weekly Detachment Breakfast
DESCRIPTION:Come out and join the Seacoast Detachment #394 for breakfast for some great food and conversation.
URL:https://www.seacoastmarines.org/event/weekly-detachment-breakfast-3/
LOCATION:Mainely Local Yokes\, 43 Route 236\, Berwick\, ME\, United States
END:VEVENT
BEGIN:VEVENT
DTSTART;TZID=America/New_York:20231203T110000
DTEND;TZID=America/New_York:20231203T150000
DTSTAMP:20260425T103010
CREATED:20231102T203604Z
LAST-MODIFIED:20231103T175433Z
UID:3019-1701601200-1701615600@www.seacoastmarines.org
SUMMARY:Joint Officer Installation 2023
DESCRIPTION:To register for this event please go to https://nhmarines.org/joint-installation-2023/ \n 
URL:https://www.seacoastmarines.org/event/joint-officer-installation-2023/
LOCATION:The Common Man\, 25 Water Street\, US Highway\, Concord\, NH\, United States
ORGANIZER;CN="Department of NH":MAILTO:commandant@nhmarines.org
END:VEVENT
BEGIN:VEVENT
DTSTART;TZID=UTC:20231129T090000
DTEND;TZID=UTC:20231129T100000
DTSTAMP:20260425T103010
CREATED:20231121T192340Z
LAST-MODIFIED:20231121T192340Z
UID:3158-1701248400-1701252000@www.seacoastmarines.org
SUMMARY:Weekly Detachment Breakfast
DESCRIPTION:Come out and join the Seacoast Detachment #394 for breakfast for some great food and conversation.
URL:https://www.seacoastmarines.org/event/weekly-detachment-breakfast-2/
LOCATION:Mainely Local Yokes\, 43 Route 236\, Berwick\, ME\, United States
END:VEVENT
END:VCALENDAR