BEGIN:VCALENDAR
VERSION:2.0
PRODID:-//Marine Corps League Seacoast Detachment 394 - ECPv6.15.20//NONSGML v1.0//EN
CALSCALE:GREGORIAN
METHOD:PUBLISH
X-WR-CALNAME:Marine Corps League Seacoast Detachment 394
X-ORIGINAL-URL:https://www.seacoastmarines.org
X-WR-CALDESC:Events for Marine Corps League Seacoast Detachment 394
REFRESH-INTERVAL;VALUE=DURATION:PT1H
X-Robots-Tag:noindex
X-PUBLISHED-TTL:PT1H
BEGIN:VTIMEZONE
TZID:America/New_York
BEGIN:DAYLIGHT
TZOFFSETFROM:-0500
TZOFFSETTO:-0400
TZNAME:EDT
DTSTART:20220313T070000
END:DAYLIGHT
BEGIN:STANDARD
TZOFFSETFROM:-0400
TZOFFSETTO:-0500
TZNAME:EST
DTSTART:20221106T060000
END:STANDARD
BEGIN:DAYLIGHT
TZOFFSETFROM:-0500
TZOFFSETTO:-0400
TZNAME:EDT
DTSTART:20230312T070000
END:DAYLIGHT
BEGIN:STANDARD
TZOFFSETFROM:-0400
TZOFFSETTO:-0500
TZNAME:EST
DTSTART:20231105T060000
END:STANDARD
BEGIN:DAYLIGHT
TZOFFSETFROM:-0500
TZOFFSETTO:-0400
TZNAME:EDT
DTSTART:20240310T070000
END:DAYLIGHT
BEGIN:STANDARD
TZOFFSETFROM:-0400
TZOFFSETTO:-0500
TZNAME:EST
DTSTART:20241103T060000
END:STANDARD
BEGIN:DAYLIGHT
TZOFFSETFROM:-0500
TZOFFSETTO:-0400
TZNAME:EDT
DTSTART:20250309T070000
END:DAYLIGHT
BEGIN:STANDARD
TZOFFSETFROM:-0400
TZOFFSETTO:-0500
TZNAME:EST
DTSTART:20251102T060000
END:STANDARD
END:VTIMEZONE
BEGIN:VTIMEZONE
TZID:UTC
BEGIN:STANDARD
TZOFFSETFROM:+0000
TZOFFSETTO:+0000
TZNAME:UTC
DTSTART:20220101T000000
END:STANDARD
END:VTIMEZONE
BEGIN:VTIMEZONE
TZID:America/New_York
BEGIN:DAYLIGHT
TZOFFSETFROM:-0500
TZOFFSETTO:-0400
TZNAME:EDT
DTSTART:20220313T070000
END:DAYLIGHT
BEGIN:STANDARD
TZOFFSETFROM:-0400
TZOFFSETTO:-0500
TZNAME:EST
DTSTART:20221106T060000
END:STANDARD
BEGIN:DAYLIGHT
TZOFFSETFROM:-0500
TZOFFSETTO:-0400
TZNAME:EDT
DTSTART:20230312T070000
END:DAYLIGHT
BEGIN:STANDARD
TZOFFSETFROM:-0400
TZOFFSETTO:-0500
TZNAME:EST
DTSTART:20231105T060000
END:STANDARD
BEGIN:DAYLIGHT
TZOFFSETFROM:-0500
TZOFFSETTO:-0400
TZNAME:EDT
DTSTART:20240310T070000
END:DAYLIGHT
BEGIN:STANDARD
TZOFFSETFROM:-0400
TZOFFSETTO:-0500
TZNAME:EST
DTSTART:20241103T060000
END:STANDARD
END:VTIMEZONE
BEGIN:VEVENT
DTSTART;TZID=America/New_York:20240110T090000
DTEND;TZID=America/New_York:20240110T100000
DTSTAMP:20260424T053821
CREATED:20240109T164245Z
LAST-MODIFIED:20240109T164245Z
UID:3307-1704877200-1704880800@www.seacoastmarines.org
SUMMARY:Weekly Detachment Breakfast
DESCRIPTION:Come out and join the Seacoast Detachment #394 for breakfast for some great food and conversation.
URL:https://www.seacoastmarines.org/event/weekly-detachment-breakfast-7/
LOCATION:Golden Egg Diner\, 72 Mirona Rd.\, Portsmouth\, NH\, United States
END:VEVENT
BEGIN:VEVENT
DTSTART;TZID=UTC:20240108T190000
DTEND;TZID=UTC:20240108T210000
DTSTAMP:20260424T053821
CREATED:20231121T192956Z
LAST-MODIFIED:20231121T192956Z
UID:3164-1704740400-1704747600@www.seacoastmarines.org
SUMMARY:Seacoast January Monthly Board and Membership Meeting
DESCRIPTION:Please join us for the Seacoast Detachment monthly membership meeting where we discuss upcoming events and the running of the organization.  Join us and share your ideas\, we would love to hear them.
URL:https://www.seacoastmarines.org/event/seacoast-january-monthly-board-and-membership-meeting/
LOCATION:American Legion Post #6\, 96 Islington\, Street\, Portsmouth\, NH\, United States
END:VEVENT
BEGIN:VEVENT
DTSTART;TZID=America/New_York:20240103T090000
DTEND;TZID=America/New_York:20240103T100000
DTSTAMP:20260424T053821
CREATED:20231218T210618Z
LAST-MODIFIED:20231218T210618Z
UID:3242-1704272400-1704276000@www.seacoastmarines.org
SUMMARY:Weekly Detachment Breakfast
DESCRIPTION:Come out and join the Seacoast Detachment #394 for breakfast for some great food and conversation.
URL:https://www.seacoastmarines.org/event/weekly-detachment-breakfast-6/
LOCATION:Mainely Local Yokes\, 43 Route 236\, Berwick\, ME\, United States
END:VEVENT
BEGIN:VEVENT
DTSTART;TZID=America/New_York:20231227T090000
DTEND;TZID=America/New_York:20231227T100000
DTSTAMP:20260424T053821
CREATED:20231218T185547Z
LAST-MODIFIED:20231218T185547Z
UID:3237-1703667600-1703671200@www.seacoastmarines.org
SUMMARY:Weekly Detachment Breakfast
DESCRIPTION:Come out and join the Seacoast Detachment #394 for breakfast for some great food and conversation.
URL:https://www.seacoastmarines.org/event/weekly-detachment-breakfast-4/
LOCATION:Mainely Local Yokes\, 43 Route 236\, Berwick\, ME\, United States
END:VEVENT
BEGIN:VEVENT
DTSTART;TZID=America/New_York:20231220T120000
DTEND;TZID=America/New_York:20231220T130000
DTSTAMP:20260424T053821
CREATED:20231216T003541Z
LAST-MODIFIED:20231216T003541Z
UID:3233-1703073600-1703077200@www.seacoastmarines.org
SUMMARY:Building Bridges Veterans Initiative  - Veterans' Free Lunch – (LASAGNA)
DESCRIPTION:NOW HEAR THIS: \nWHO:     Any and all Veterans \nWHAT:  Veterans’ Free Lunch – (LASAGNA) \nWHEN:  Wed 12/20/2023 12:00 AM – 1:00 PM \nWHERE: Hobbs House 200 High Street\, Hampton\, NH 03842 (http://www.hamptoncommunitycoalition.org/) \nWHY:      This is a monthly offering (third Wednesday of the month) to honor our Veterans. \nThis is one simple and easy way to meet and greet some new and old Brothers and Sisters. I know that I’ll be there; come on down and say hello. \n -Rich P.\, Corporal \nUnited States Marine Corps \nAnd damned proud of it.” \nThe above announcement is provided by Marine Rich Pettengill and it is a good example of what our area provides to Veterans. For a further explanation of what this luncheon entails\, please see below: \n“Outreach beyond our walls \nBuilding Bridges Veterans Initiative                \nAs part of the Building Bridges Veterans initiative (https://buildingbridgesveterans.org/)\, we provide a  comfortable\, respectful\, and non-judgmental space for veterans to gather for lunch\, conversation\, support and friendship. \nAmerican veterans are a critically under-served and tragically marginalized population that we\, at Trinity (https://trinityhampton.org/ministries/)\, feel called to embrace. The high rate of suicide\, the rampant problem of veteran homelessness\, drug and alcohol addiction\, and the epidemic isolation that veterans face are all areas that we need to address within our community and across the country! \nWe’ll begin with getting comfortable getting together on the third Wednesday of each month for Lunch at Hobbs House once a month. We’d like to hear what the needs of our hometown vets are and then begin to find ways to address them. If all they want is another place to socialize over lunch\, that’s fine too. Let’s take this journey together! \nThis is a community project. If you would like to get involved\, let us know by contacting us at trinity55ad@gmail.com or call us at 603-926-5688.” \nThe 20 Dec luncheon is the last one of the year at Hobbs House\, but they will resume in the Spring. Follow the Building Bridges Events Calendar to find out when the luncheons return to Hobbs House:   https://buildingbridgesveterans.org/events/.  \nEnjoy this free offering and the opportunity to speak with fellow veterans. Also have a safe and enjoyable Holiday Season. See you next year! \nSemper fi\, \nDick Lak \nCommandant \nSeacoast Detachment # 394 \nMarine Corps League
URL:https://www.seacoastmarines.org/event/building-bridges-veterans-initiative-veterans-free-lunch-lasagna/
LOCATION:Hobbs House\, 200 High Street\, Hampton\, NH\, United States
END:VEVENT
BEGIN:VEVENT
DTSTART;TZID=America/New_York:20231220T084500
DTEND;TZID=America/New_York:20231220T220000
DTSTAMP:20260424T053821
CREATED:20231218T185958Z
LAST-MODIFIED:20231218T185958Z
UID:3239-1703061900-1703109600@www.seacoastmarines.org
SUMMARY:Weekly Detachment Breakfast
DESCRIPTION:Thanks to our JPC Bob Niver\, we will move our breakfast location for one week\, to be able to share breakfast with one of our longtime members and Wednesday breakfast regular\, George McCreary. George is currently housed at Partridge House located at 777 Layfayette Road in Hampton\, NH (https://www.partridgehousenh.com/). The staff will accommodate our presence with breakfast fare. Below are some of the details needed (provided by our JPC Bob Niver) if you want to attend:  \n“George’s facility is located at 777 Lafayette Road\, Hampton. Please bring an unwrapped toy and be there around 8:45. I think we will eat in the regular dining room with a special menu. The toys will be taken to the Winnacunnet Fire Hall.Thanks for making this happen. George was excited when I talked to him today.    Bob” \nAs we age and become less mobile\, we need to remember our promise to take care of each other as fellow Marines. George has been active in the Detachment since 2014 and a Lifetime member since 2017. We owe George a debt of gratitude for his service and loyalty to the League/ Detachment and our presence will also help with local toy drives for Christmas 2023. We hope to see you there. \nSemper fi\, \nDick Lak \nCommandant
URL:https://www.seacoastmarines.org/event/weekly-detachment-breakfast-5/
LOCATION:Partridge House\, 777 Lafayette Road\, Hampton\, NH\, United States
END:VEVENT
BEGIN:VEVENT
DTSTART;TZID=UTC:20231211T190000
DTEND;TZID=UTC:20231211T210000
DTSTAMP:20260424T053821
CREATED:20231121T192857Z
LAST-MODIFIED:20231121T192857Z
UID:3162-1702321200-1702328400@www.seacoastmarines.org
SUMMARY:Seacoast December Monthly Board and Membership Meeting
DESCRIPTION:Please join us for the Seacoast Detachment monthly membership meeting where we discuss upcoming events and the running of the organization.  Join us and share your ideas\, we would love to hear them.
URL:https://www.seacoastmarines.org/event/seacoast-december-monthly-board-and-membership-meeting/
LOCATION:American Legion Post #6\, 96 Islington\, Street\, Portsmouth\, NH\, United States
END:VEVENT
BEGIN:VEVENT
DTSTART;TZID=UTC:20231206T090000
DTEND;TZID=UTC:20231206T100000
DTSTAMP:20260424T053821
CREATED:20231121T192505Z
LAST-MODIFIED:20231121T192505Z
UID:3160-1701853200-1701856800@www.seacoastmarines.org
SUMMARY:Weekly Detachment Breakfast
DESCRIPTION:Come out and join the Seacoast Detachment #394 for breakfast for some great food and conversation.
URL:https://www.seacoastmarines.org/event/weekly-detachment-breakfast-3/
LOCATION:Mainely Local Yokes\, 43 Route 236\, Berwick\, ME\, United States
END:VEVENT
BEGIN:VEVENT
DTSTART;TZID=America/New_York:20231203T110000
DTEND;TZID=America/New_York:20231203T150000
DTSTAMP:20260424T053821
CREATED:20231102T203604Z
LAST-MODIFIED:20231103T175433Z
UID:3019-1701601200-1701615600@www.seacoastmarines.org
SUMMARY:Joint Officer Installation 2023
DESCRIPTION:To register for this event please go to https://nhmarines.org/joint-installation-2023/ \n 
URL:https://www.seacoastmarines.org/event/joint-officer-installation-2023/
LOCATION:The Common Man\, 25 Water Street\, US Highway\, Concord\, NH\, United States
ORGANIZER;CN="Department of NH":MAILTO:commandant@nhmarines.org
END:VEVENT
BEGIN:VEVENT
DTSTART;TZID=UTC:20231129T090000
DTEND;TZID=UTC:20231129T100000
DTSTAMP:20260424T053821
CREATED:20231121T192340Z
LAST-MODIFIED:20231121T192340Z
UID:3158-1701248400-1701252000@www.seacoastmarines.org
SUMMARY:Weekly Detachment Breakfast
DESCRIPTION:Come out and join the Seacoast Detachment #394 for breakfast for some great food and conversation.
URL:https://www.seacoastmarines.org/event/weekly-detachment-breakfast-2/
LOCATION:Mainely Local Yokes\, 43 Route 236\, Berwick\, ME\, United States
END:VEVENT
BEGIN:VEVENT
DTSTART;TZID=UTC:20231122T090000
DTEND;TZID=UTC:20231122T100000
DTSTAMP:20260424T053821
CREATED:20231121T192152Z
LAST-MODIFIED:20231121T192152Z
UID:3153-1700643600-1700647200@www.seacoastmarines.org
SUMMARY:Weekly Detachment Breakfast
DESCRIPTION:Come out and join the Seacoast Detachment #394 for breakfast for some great food and conversation.
URL:https://www.seacoastmarines.org/event/weekly-detachment-breakfast/
LOCATION:Mainely Local Yokes\, 43 Route 236\, Berwick\, ME\, United States
END:VEVENT
BEGIN:VEVENT
DTSTART;TZID=America/New_York:20231120T190000
DTEND;TZID=America/New_York:20231120T210000
DTSTAMP:20260424T053821
CREATED:20231103T170412Z
LAST-MODIFIED:20231103T175407Z
UID:3033-1700506800-1700514000@www.seacoastmarines.org
SUMMARY:Seacoast November Monthly Board and Membership Meeting
DESCRIPTION:We have moved out our November meeting from our typical 2nd Monday of the month to the following Monday because of all of the Birthday and Veterans Day events.  We hope to see you at the meeting.
URL:https://www.seacoastmarines.org/event/november-monthly-board-and-membership-meeting/
LOCATION:American Legion Post #6\, 96 Islington\, Street\, Portsmouth\, NH\, United States
END:VEVENT
BEGIN:VEVENT
DTSTART;TZID=America/New_York:20231115T090000
DTEND;TZID=America/New_York:20231115T100000
DTSTAMP:20260424T053821
CREATED:20231103T171649Z
LAST-MODIFIED:20231103T175341Z
UID:3045-1700038800-1700042400@www.seacoastmarines.org
SUMMARY:Seacoast Detachment Weekly Breakfast
DESCRIPTION:Come and join us at the Seacoast Detachment weekly breakfast for some good food and conversation with your fellow Marine Corps League members.  The location changes monthly\, so please check the calendar each week/month for the new location.  Location changes after each Board / Membership meeting.
URL:https://www.seacoastmarines.org/event/seacoast-detachment-weekly-breakfast/
LOCATION:Golden Egg Diner\, 72 Mirona Rd.\, Portsmouth\, NH\, United States
END:VEVENT
BEGIN:VEVENT
DTSTART;TZID=America/New_York:20231114T170000
DTEND;TZID=America/New_York:20231114T210000
DTSTAMP:20260424T053821
CREATED:20231103T174820Z
LAST-MODIFIED:20231103T175138Z
UID:3047-1699981200-1699995600@www.seacoastmarines.org
SUMMARY:248th Marines Birthday and 75th Detachment Anniversary Dinner
DESCRIPTION:ARTICLE 38 OF THE 1921 MARINE CORPS MANUAL:\n“On November 10\, 1775\, a Corps of Marines was created by a resolution of the Continental Congress. Since that date many thousand men have borne the name Marine. In memory of them\, it is fitting that we who are Marines should commemorate the birthday of our Corps by calling to mind the glories of its long and illustrious history.”\nJohn A. Lejeune\n13th Commandant of the Marine Corps\nSEACOAST DETACHMENT MARINE CORPS LEAGUE\n248th Birthday of the Marine Corps\n1700: Social Hour and Appetizers\n1800 Welcome……………………………………………………………………………………………………..Commandant Corson\nRecognition of the POW/MIA table………………………………………………………………….Junior Vice Commandant Maher\nPledge of Allegiance…………………………………………………………………………………………………….Paymaster Dow\nReading of Gen Lejeune’s message to the Corps……………………………………………………….………Marine Ken Mitchell\n75 years of Detachment history…………………………………..….. Commandant Corson and Junior Past Commandant Niver\nBlessing…………………………………………………………….…………………………………………………Chaplain Lombardi\nDinner\nCake Cutting Ceremony…………………………………………………………………….……….Senior Vice Commandant Howe\nYoungest & Oldest Marine present…………………………..….Corporal Matayo Grondin and Junior Past Commandant Niver\nAwards…………………………………………….…………………..…………………………………………..Commandant Corson\nInstallation of new Commandant…………………………………………………………………….Junior Past Commandant Niver\nClosing remarks……………………………………………………….………………………………………………Commandant Lak
URL:https://www.seacoastmarines.org/event/3047/
LOCATION:Old Salt & Lamies Inn\, 490 Lafayette Rd. (Rte 1)\, Hampton\, NH\, United States
END:VEVENT
BEGIN:VEVENT
DTSTART;TZID=UTC:20231110T110000
DTEND;TZID=UTC:20231110T150000
DTSTAMP:20260424T053821
CREATED:20231107T010741Z
LAST-MODIFIED:20231107T010741Z
UID:3077-1699614000-1699628400@www.seacoastmarines.org
SUMMARY:Manchester Expeditionary Brigade 248th Marine Corps Birthday Luncheon
DESCRIPTION:
URL:https://www.seacoastmarines.org/event/manchester-expeditionary-brigade-248th-marine-corps-birthday-luncheon/
LOCATION:Derryfield Country Club\, 625 Mammouth Road\, Manchester\, NH\, United States
END:VEVENT
BEGIN:VEVENT
DTSTART;TZID=UTC:20231110T074500
DTEND;TZID=UTC:20231110T083000
DTSTAMP:20260424T053821
CREATED:20231107T010421Z
LAST-MODIFIED:20231107T010421Z
UID:3073-1699602300-1699605000@www.seacoastmarines.org
SUMMARY:Flag Raising
DESCRIPTION:
URL:https://www.seacoastmarines.org/event/flag-raising/
LOCATION:NH State House\, Concord\, NH\, United States
END:VEVENT
BEGIN:VEVENT
DTSTART;TZID=America/New_York:20231108T090000
DTEND;TZID=America/New_York:20231108T100000
DTSTAMP:20260424T053821
CREATED:20231103T171035Z
LAST-MODIFIED:20231103T175307Z
UID:3039-1699434000-1699437600@www.seacoastmarines.org
SUMMARY:Seacoast Weekly Breakfast
DESCRIPTION:Come and join us at the Seacoast Detachment weekly breakfast for some good food and conversation with your fellow Marine Corps League members.  The location changes monthly\, so please check the calendar each week/month for the new location.  Location changes after each Board / Membership meeting.
URL:https://www.seacoastmarines.org/event/seacoast-weekly-breakfast/
LOCATION:Golden Egg Diner\, 72 Mirona Rd.\, Portsmouth\, NH\, United States
END:VEVENT
END:VCALENDAR