BEGIN:VCALENDAR
VERSION:2.0
PRODID:-//Marine Corps League Seacoast Detachment 394 - ECPv6.15.20//NONSGML v1.0//EN
CALSCALE:GREGORIAN
METHOD:PUBLISH
X-WR-CALNAME:Marine Corps League Seacoast Detachment 394
X-ORIGINAL-URL:https://www.seacoastmarines.org
X-WR-CALDESC:Events for Marine Corps League Seacoast Detachment 394
REFRESH-INTERVAL;VALUE=DURATION:PT1H
X-Robots-Tag:noindex
X-PUBLISHED-TTL:PT1H
BEGIN:VTIMEZONE
TZID:America/New_York
BEGIN:DAYLIGHT
TZOFFSETFROM:-0500
TZOFFSETTO:-0400
TZNAME:EDT
DTSTART:20240310T070000
END:DAYLIGHT
BEGIN:STANDARD
TZOFFSETFROM:-0400
TZOFFSETTO:-0500
TZNAME:EST
DTSTART:20241103T060000
END:STANDARD
BEGIN:DAYLIGHT
TZOFFSETFROM:-0500
TZOFFSETTO:-0400
TZNAME:EDT
DTSTART:20250309T070000
END:DAYLIGHT
BEGIN:STANDARD
TZOFFSETFROM:-0400
TZOFFSETTO:-0500
TZNAME:EST
DTSTART:20251102T060000
END:STANDARD
BEGIN:DAYLIGHT
TZOFFSETFROM:-0500
TZOFFSETTO:-0400
TZNAME:EDT
DTSTART:20260308T070000
END:DAYLIGHT
BEGIN:STANDARD
TZOFFSETFROM:-0400
TZOFFSETTO:-0500
TZNAME:EST
DTSTART:20261101T060000
END:STANDARD
BEGIN:DAYLIGHT
TZOFFSETFROM:-0500
TZOFFSETTO:-0400
TZNAME:EDT
DTSTART:20270314T070000
END:DAYLIGHT
BEGIN:STANDARD
TZOFFSETFROM:-0400
TZOFFSETTO:-0500
TZNAME:EST
DTSTART:20271107T060000
END:STANDARD
END:VTIMEZONE
BEGIN:VEVENT
DTSTART;TZID=America/New_York:20260121T090000
DTEND;TZID=America/New_York:20260121T100000
DTSTAMP:20260422T185207
CREATED:20260114T201936Z
LAST-MODIFIED:20260114T201936Z
UID:4389-1768986000-1768989600@www.seacoastmarines.org
SUMMARY:Weekly Detachment Breakfast
DESCRIPTION:Come out and join the Seacoast Detachment #394 for breakfast for some great food and conversation.
URL:https://www.seacoastmarines.org/event/weekly-detachment-breakfast-103/
LOCATION:Hebert’s Restaurant\, 1500 Lafayette Rd Ste 8 (Route 1)\, Portsmouth\, NH\, 03801-8622\, United States
END:VEVENT
BEGIN:VEVENT
DTSTART;TZID=America/New_York:20260112T190000
DTEND;TZID=America/New_York:20260112T203000
DTSTAMP:20260422T185207
CREATED:20260105T145023Z
LAST-MODIFIED:20260106T163013Z
UID:4321-1768244400-1768249800@www.seacoastmarines.org
SUMMARY:Seacoast Detachment January Monthly Board and Membership Meeting
DESCRIPTION:Please join us for the Seacoast Detachment monthly membership meeting where we discuss upcoming events and the running of the organization.  Join us and share your ideas\, we would love to hear them.
URL:https://www.seacoastmarines.org/event/seacoast-detachment-january-monthly-board-and-membership-meeting-4/
LOCATION:American Legion Post #6\, 96 Islington\, Street\, Portsmouth\, NH\, United States
END:VEVENT
BEGIN:VEVENT
DTSTART;TZID=America/New_York:20260107T090000
DTEND;TZID=America/New_York:20260107T100000
DTSTAMP:20260422T185207
CREATED:20251217T180334Z
LAST-MODIFIED:20251217T180334Z
UID:4314-1767776400-1767780000@www.seacoastmarines.org
SUMMARY:Weekly Detachment Breakfast
DESCRIPTION:Come out and join the Seacoast Detachment #394 for breakfast for some great food and conversation.
URL:https://www.seacoastmarines.org/event/weekly-detachment-breakfast-102/
LOCATION:Golden Egg Diner\, 72 Mirona Rd.\, Portsmouth\, NH\, United States
END:VEVENT
BEGIN:VEVENT
DTSTART;TZID=America/New_York:20251231T090000
DTEND;TZID=America/New_York:20251231T100000
DTSTAMP:20260422T185207
CREATED:20251217T180301Z
LAST-MODIFIED:20251217T180301Z
UID:4312-1767171600-1767175200@www.seacoastmarines.org
SUMMARY:Weekly Detachment Breakfast
DESCRIPTION:Come out and join the Seacoast Detachment #394 for breakfast for some great food and conversation.
URL:https://www.seacoastmarines.org/event/weekly-detachment-breakfast-101/
LOCATION:Golden Egg Diner\, 72 Mirona Rd.\, Portsmouth\, NH\, United States
END:VEVENT
BEGIN:VEVENT
DTSTART;TZID=America/New_York:20251224T090000
DTEND;TZID=America/New_York:20251224T100000
DTSTAMP:20260422T185207
CREATED:20251217T180222Z
LAST-MODIFIED:20251217T180222Z
UID:4310-1766566800-1766570400@www.seacoastmarines.org
SUMMARY:Weekly Detachment Breakfast
DESCRIPTION:Come out and join the Seacoast Detachment #394 for breakfast for some great food and conversation.
URL:https://www.seacoastmarines.org/event/weekly-detachment-breakfast-100/
LOCATION:Golden Egg Diner\, 72 Mirona Rd.\, Portsmouth\, NH\, United States
END:VEVENT
BEGIN:VEVENT
DTSTART;TZID=America/New_York:20251220T090000
DTEND;TZID=America/New_York:20251220T103000
DTSTAMP:20260422T185207
CREATED:20251218T012118Z
LAST-MODIFIED:20251218T012118Z
UID:4316-1766221200-1766226600@www.seacoastmarines.org
SUMMARY:Family & Friends Breakfast
DESCRIPTION:Please consider joining us at the Golden Egg\, Saturday\, December 20th at 0900 for a family & Friends breakfast.  It will be a great time to wish each                         other a very Merry Christmas and Happy New Year; I’m sure a few moments of joyous reflection going back to January will also be heard. \nIf interested\, please contact Bob Niver at revim167@gmail.com or 603-926-3009.  See you Saturday.
URL:https://www.seacoastmarines.org/event/family-friends-breakfast/
LOCATION:Golden Egg Diner\, 72 Mirona Rd.\, Portsmouth\, NH\, United States
END:VEVENT
BEGIN:VEVENT
DTSTART;TZID=America/New_York:20251217T090000
DTEND;TZID=America/New_York:20251217T100000
DTSTAMP:20260422T185207
CREATED:20251217T180143Z
LAST-MODIFIED:20251217T180143Z
UID:4308-1765962000-1765965600@www.seacoastmarines.org
SUMMARY:Weekly Detachment Breakfast
DESCRIPTION:Come out and join the Seacoast Detachment #394 for breakfast for some great food and conversation.
URL:https://www.seacoastmarines.org/event/weekly-detachment-breakfast-99/
LOCATION:Golden Egg Diner\, 72 Mirona Rd.\, Portsmouth\, NH\, United States
END:VEVENT
BEGIN:VEVENT
DTSTART;TZID=America/New_York:20251210T090000
DTEND;TZID=America/New_York:20251210T100000
DTSTAMP:20260422T185207
CREATED:20251217T180103Z
LAST-MODIFIED:20251217T180103Z
UID:4306-1765357200-1765360800@www.seacoastmarines.org
SUMMARY:Weekly Detachment Breakfast
DESCRIPTION:Come out and join the Seacoast Detachment #394 for breakfast for some great food and conversation.
URL:https://www.seacoastmarines.org/event/weekly-detachment-breakfast-98/
LOCATION:Golden Egg Diner\, 72 Mirona Rd.\, Portsmouth\, NH\, United States
END:VEVENT
BEGIN:VEVENT
DTSTART;TZID=America/New_York:20251208T190000
DTEND;TZID=America/New_York:20251208T203000
DTSTAMP:20260422T185207
CREATED:20250905T153719Z
LAST-MODIFIED:20250905T153719Z
UID:4192-1765220400-1765225800@www.seacoastmarines.org
SUMMARY:Seacoast Detachment December Monthly Board and Membership Meeting
DESCRIPTION:Please join us for the Seacoast Detachment monthly membership meeting where we discuss upcoming events and the running of the organization.  Join us and share your ideas\, we would love to hear them.
URL:https://www.seacoastmarines.org/event/seacoast-detachment-december-monthly-board-and-membership-meeting-3/
LOCATION:American Legion Post #6\, 96 Islington\, Street\, Portsmouth\, NH\, United States
END:VEVENT
BEGIN:VEVENT
DTSTART;TZID=America/New_York:20251206T110000
DTEND;TZID=America/New_York:20251206T160000
DTSTAMP:20260422T185207
CREATED:20251020T133942Z
LAST-MODIFIED:20251020T133942Z
UID:4264-1765018800-1765036800@www.seacoastmarines.org
SUMMARY:Department of NH Quarterly Meeting
DESCRIPTION:The Department of NH Quarterly Meeting will be held on December 6\, 2025 from 11am to 4pm.  The meeting will be hosted by Granite State Detachment #542 at 1 Sundial Ave\, Suite 317\, Manchester\, NH. \nThere is an elevator and plenty of free parking.
URL:https://www.seacoastmarines.org/event/department-of-nh-quarterly-meeting-6/
LOCATION:American-Canadian Genealogical Society\, 1 Sundial Ave\, Suite 317\, Manchester\, NH\, 03103
ORGANIZER;CN="Department of NH":MAILTO:commandant@nhmarines.org
END:VEVENT
BEGIN:VEVENT
DTSTART;TZID=America/New_York:20251203T090000
DTEND;TZID=America/New_York:20251203T100000
DTSTAMP:20260422T185207
CREATED:20251118T181447Z
LAST-MODIFIED:20251118T181447Z
UID:4276-1764752400-1764756000@www.seacoastmarines.org
SUMMARY:Weekly Detachment Breakfast
DESCRIPTION:Come out and join the Seacoast Detachment #394 for breakfast for some great food and conversation.
URL:https://www.seacoastmarines.org/event/weekly-detachment-breakfast-97/
LOCATION:Golden Egg Diner\, 72 Mirona Rd.\, Portsmouth\, NH\, United States
END:VEVENT
BEGIN:VEVENT
DTSTART;TZID=America/New_York:20251126T090000
DTEND;TZID=America/New_York:20251126T100000
DTSTAMP:20260422T185207
CREATED:20251118T181306Z
LAST-MODIFIED:20251118T181306Z
UID:4272-1764147600-1764151200@www.seacoastmarines.org
SUMMARY:Weekly Detachment Breakfast
DESCRIPTION:Come out and join the Seacoast Detachment #394 for breakfast for some great food and conversation.
URL:https://www.seacoastmarines.org/event/weekly-detachment-breakfast-95/
LOCATION:Golden Egg Diner\, 72 Mirona Rd.\, Portsmouth\, NH\, United States
END:VEVENT
BEGIN:VEVENT
DTSTART;TZID=America/New_York:20251119T090000
DTEND;TZID=America/New_York:20251119T100000
DTSTAMP:20260422T185207
CREATED:20251118T181402Z
LAST-MODIFIED:20251118T181402Z
UID:4274-1763542800-1763546400@www.seacoastmarines.org
SUMMARY:Weekly Detachment Breakfast
DESCRIPTION:Come out and join the Seacoast Detachment #394 for breakfast for some great food and conversation.
URL:https://www.seacoastmarines.org/event/weekly-detachment-breakfast-96/
LOCATION:Golden Egg Diner\, 72 Mirona Rd.\, Portsmouth\, NH\, United States
END:VEVENT
BEGIN:VEVENT
DTSTART;TZID=America/New_York:20251117T190000
DTEND;TZID=America/New_York:20251117T203000
DTSTAMP:20260422T185207
CREATED:20250905T153632Z
LAST-MODIFIED:20251105T185559Z
UID:4190-1763406000-1763411400@www.seacoastmarines.org
SUMMARY:Seacoast Detachment November Monthly Board and Membership Meeting
DESCRIPTION:Please join us for the Seacoast Detachment monthly membership meeting where we discuss upcoming events and the running of the organization.  Join us and share your ideas\, we would love to hear them.
URL:https://www.seacoastmarines.org/event/seacoast-detachment-november-monthly-board-and-membership-meeting-2/
LOCATION:American Legion Post #6\, 96 Islington\, Street\, Portsmouth\, NH\, United States
END:VEVENT
BEGIN:VEVENT
DTSTART;TZID=America/New_York:20251110T080000
DTEND;TZID=America/New_York:20251110T170000
DTSTAMP:20260422T185207
CREATED:20250905T154011Z
LAST-MODIFIED:20250905T154011Z
UID:4194-1762761600-1762794000@www.seacoastmarines.org
SUMMARY:Seacoast Detachment Marine Corps 250th Birthday Dinner
DESCRIPTION:More details to come soon.
URL:https://www.seacoastmarines.org/event/seacoast-detachment-marine-corps-250th-birthday-dinner/
LOCATION:Old Salt & Lamies Inn\, 490 Lafayette Rd. (Rte 1)\, Hampton\, NH\, United States
END:VEVENT
BEGIN:VEVENT
DTSTART;TZID=America/New_York:20251105T090000
DTEND;TZID=America/New_York:20251105T100000
DTSTAMP:20260422T185207
CREATED:20251017T174809Z
LAST-MODIFIED:20251017T174809Z
UID:4251-1762333200-1762336800@www.seacoastmarines.org
SUMMARY:Weekly Detachment Breakfast
DESCRIPTION:Come out and join the Seacoast Detachment #394 for breakfast for some great food and conversation.
URL:https://www.seacoastmarines.org/event/weekly-detachment-breakfast-93/
LOCATION:Mainely Local Yokes\, 43 Route 236\, Berwick\, ME\, United States
END:VEVENT
BEGIN:VEVENT
DTSTART;TZID=America/New_York:20251029T090000
DTEND;TZID=America/New_York:20251029T100000
DTSTAMP:20260422T185207
CREATED:20251017T174725Z
LAST-MODIFIED:20251017T174725Z
UID:4249-1761728400-1761732000@www.seacoastmarines.org
SUMMARY:Weekly Detachment Breakfast
DESCRIPTION:Come out and join the Seacoast Detachment #394 for breakfast for some great food and conversation.
URL:https://www.seacoastmarines.org/event/weekly-detachment-breakfast-92/
LOCATION:Mainely Local Yokes\, 43 Route 236\, Berwick\, ME\, United States
END:VEVENT
BEGIN:VEVENT
DTSTART;TZID=America/New_York:20251022T090000
DTEND;TZID=America/New_York:20251022T100000
DTSTAMP:20260422T185207
CREATED:20251017T174508Z
LAST-MODIFIED:20251017T174508Z
UID:4247-1761123600-1761127200@www.seacoastmarines.org
SUMMARY:Weekly Detachment Breakfast
DESCRIPTION:Come out and join the Seacoast Detachment #394 for breakfast for some great food and conversation.
URL:https://www.seacoastmarines.org/event/weekly-detachment-breakfast-91/
LOCATION:Mainely Local Yokes\, 43 Route 236\, Berwick\, ME\, United States
END:VEVENT
BEGIN:VEVENT
DTSTART;TZID=America/New_York:20251015T090000
DTEND;TZID=America/New_York:20251015T100000
DTSTAMP:20260422T185207
CREATED:20251017T174412Z
LAST-MODIFIED:20251017T174412Z
UID:4245-1760518800-1760522400@www.seacoastmarines.org
SUMMARY:Weekly Detachment Breakfast
DESCRIPTION:Come out and join the Seacoast Detachment #394 for breakfast for some great food and conversation.
URL:https://www.seacoastmarines.org/event/weekly-detachment-breakfast-90/
LOCATION:Mainely Local Yokes\, 43 Route 236\, Berwick\, ME\, United States
END:VEVENT
BEGIN:VEVENT
DTSTART;TZID=America/New_York:20251013T190000
DTEND;TZID=America/New_York:20251013T203000
DTSTAMP:20260422T185207
CREATED:20250905T153519Z
LAST-MODIFIED:20250905T153519Z
UID:4188-1760382000-1760387400@www.seacoastmarines.org
SUMMARY:Seacoast Detachment October Monthly Board and Membership Meeting
DESCRIPTION:Please join us for the Seacoast Detachment monthly membership meeting where we discuss upcoming events and the running of the organization.  Join us and share your ideas\, we would love to hear them.
URL:https://www.seacoastmarines.org/event/seacoast-detachment-october-monthly-board-and-membership-meeting-2/
LOCATION:American Legion Post #6\, 96 Islington\, Street\, Portsmouth\, NH\, United States
END:VEVENT
BEGIN:VEVENT
DTSTART;TZID=America/New_York:20251008T090000
DTEND;TZID=America/New_York:20251008T100000
DTSTAMP:20260422T185207
CREATED:20250917T141433Z
LAST-MODIFIED:20250917T141433Z
UID:4206-1759914000-1759917600@www.seacoastmarines.org
SUMMARY:Weekly Detachment Breakfast
DESCRIPTION:Come out and join the Seacoast Detachment #394 for breakfast for some great food and conversation.
URL:https://www.seacoastmarines.org/event/weekly-detachment-breakfast-89/
LOCATION:Copper Lantern\, 54 Lafayette Rd\, Hampton\, NH
END:VEVENT
BEGIN:VEVENT
DTSTART;TZID=America/New_York:20251001T090000
DTEND;TZID=America/New_York:20251001T100000
DTSTAMP:20260422T185207
CREATED:20250917T141356Z
LAST-MODIFIED:20250917T141356Z
UID:4204-1759309200-1759312800@www.seacoastmarines.org
SUMMARY:Weekly Detachment Breakfast
DESCRIPTION:Come out and join the Seacoast Detachment #394 for breakfast for some great food and conversation.
URL:https://www.seacoastmarines.org/event/weekly-detachment-breakfast-88/
LOCATION:Copper Lantern\, 54 Lafayette Rd\, Hampton\, NH
END:VEVENT
BEGIN:VEVENT
DTSTART;TZID=America/New_York:20250927T110000
DTEND;TZID=America/New_York:20250927T160000
DTSTAMP:20260422T185207
CREATED:20250822T203225Z
LAST-MODIFIED:20250822T203225Z
UID:4170-1758970800-1758988800@www.seacoastmarines.org
SUMMARY:Department of NH Quarterly Meeting
DESCRIPTION:Our next Department Meeting will be hosted by Captain Gary S Dillon Detachment #734.  It will be on Saturday September 27  from 11am-4pm and will be held at Old Town Hall\, 91 Bow Center Road\, Bow\, NH.  Please RSVP to Detachment Commandant Melany Nagy no later than 9/20/2025 to allow for planning.
URL:https://www.seacoastmarines.org/event/department-of-nh-quarterly-meeting-5/
LOCATION:Old Town Hall\, 91 Bow Center Road\, Bow\, New Hampshire
ORGANIZER;CN="Department of NH":MAILTO:commandant@nhmarines.org
END:VEVENT
BEGIN:VEVENT
DTSTART;TZID=America/New_York:20250924T090000
DTEND;TZID=America/New_York:20250924T100000
DTSTAMP:20260422T185207
CREATED:20250917T141303Z
LAST-MODIFIED:20250917T141303Z
UID:4202-1758704400-1758708000@www.seacoastmarines.org
SUMMARY:Weekly Detachment Breakfast
DESCRIPTION:Come out and join the Seacoast Detachment #394 for breakfast for some great food and conversation.
URL:https://www.seacoastmarines.org/event/weekly-detachment-breakfast-87/
LOCATION:Copper Lantern\, 54 Lafayette Rd\, Hampton\, NH
END:VEVENT
BEGIN:VEVENT
DTSTART;TZID=America/New_York:20250917T090000
DTEND;TZID=America/New_York:20250917T100000
DTSTAMP:20260422T185207
CREATED:20250917T141225Z
LAST-MODIFIED:20250917T141225Z
UID:4200-1758099600-1758103200@www.seacoastmarines.org
SUMMARY:Weekly Detachment Breakfast
DESCRIPTION:Come out and join the Seacoast Detachment #394 for breakfast for some great food and conversation.
URL:https://www.seacoastmarines.org/event/weekly-detachment-breakfast-86/
LOCATION:Copper Lantern\, 54 Lafayette Rd\, Hampton\, NH
END:VEVENT
BEGIN:VEVENT
DTSTART;TZID=America/New_York:20250910T090000
DTEND;TZID=America/New_York:20250910T100000
DTSTAMP:20260422T185207
CREATED:20250917T141134Z
LAST-MODIFIED:20250917T141134Z
UID:4197-1757494800-1757498400@www.seacoastmarines.org
SUMMARY:Weekly Detachment Breakfast
DESCRIPTION:Come out and join the Seacoast Detachment #394 for breakfast for some great food and conversation.
URL:https://www.seacoastmarines.org/event/weekly-detachment-breakfast-85/
LOCATION:Copper Lantern\, 54 Lafayette Rd\, Hampton\, NH
END:VEVENT
BEGIN:VEVENT
DTSTART;TZID=America/New_York:20250908T190000
DTEND;TZID=America/New_York:20250908T203000
DTSTAMP:20260422T185207
CREATED:20250709T161346Z
LAST-MODIFIED:20250709T161346Z
UID:4135-1757358000-1757363400@www.seacoastmarines.org
SUMMARY:Seacoast Detachment September Monthly Board and Membership Meeting
DESCRIPTION:Please join us for the Seacoast Detachment monthly membership meeting where we discuss upcoming events and the running of the organization.  Join us and share your ideas\, we would love to hear them.
URL:https://www.seacoastmarines.org/event/seacoast-detachment-september-monthly-board-and-membership-meeting-2/
LOCATION:American Legion Post #6\, 96 Islington\, Street\, Portsmouth\, NH\, United States
END:VEVENT
BEGIN:VEVENT
DTSTART;TZID=America/New_York:20250903T090000
DTEND;TZID=America/New_York:20250903T100000
DTSTAMP:20260422T185207
CREATED:20250721T174342Z
LAST-MODIFIED:20250721T174342Z
UID:4150-1756890000-1756893600@www.seacoastmarines.org
SUMMARY:Weekly Detachment Breakfast
DESCRIPTION:Come out and join the Seacoast Detachment #394 for breakfast for some great food and conversation.
URL:https://www.seacoastmarines.org/event/weekly-detachment-breakfast-84/
LOCATION:Golden Egg Diner\, 72 Mirona Rd.\, Portsmouth\, NH\, United States
END:VEVENT
BEGIN:VEVENT
DTSTART;TZID=America/New_York:20250827T090000
DTEND;TZID=America/New_York:20250827T100000
DTSTAMP:20260422T185207
CREATED:20250721T174311Z
LAST-MODIFIED:20250721T174311Z
UID:4148-1756285200-1756288800@www.seacoastmarines.org
SUMMARY:Weekly Detachment Breakfast
DESCRIPTION:Come out and join the Seacoast Detachment #394 for breakfast for some great food and conversation.
URL:https://www.seacoastmarines.org/event/weekly-detachment-breakfast-83/
LOCATION:Golden Egg Diner\, 72 Mirona Rd.\, Portsmouth\, NH\, United States
END:VEVENT
BEGIN:VEVENT
DTSTART;TZID=America/New_York:20250823T120000
DTEND;TZID=America/New_York:20250823T153000
DTSTAMP:20260422T185207
CREATED:20250506T162355Z
LAST-MODIFIED:20250814T205721Z
UID:4064-1755950400-1755963000@www.seacoastmarines.org
SUMMARY:MCL Seacoast Detachment Annual Picnic
DESCRIPTION:Update – change of date and location.\nMoved to Stratham Hill Park on Rte 33 in Stratham\, NH and will be one week later on August 23rd.\nLadies and Gentlemen\, \nAfter spinning my wheels with the Navy for two months\, we have two changes to our picnic. First\, we have a date change to 23 August and a venue change to Stratham Hill Park. SHP is right on Rte 33 obviously in Stratham. There is plenty of parking and wide open area for games or baseball\, restrooms\, everything!!!  \nIf you want to come\, great\, just show up. No sign up lists\, no vetting\, no nothing so just show up. We welcome all!! \nSHP is easy to get to. If you coming East on Rte. 101\, take Exit 11 and at the bottom of the exit ramp\, take a left. You are on Rte 33\, stay on it right up to the Park.  \nComing up or down Rte 95\, take Exit 3. Northbound\, take a left at the end of ramp exit and stay on that road Rte 33. Southbound\, again Exit 3 and when you get to the bottom of ramp\, you are on Rte 33. \nIf anybody has any questions\, email me at the above address or call or text me at 603 571 4620. \nSee ya all there \nBrad Howe\, PDD \n \nMarines\, \nOur annual picnic this year will be on August 16 starting at 1200 to 1530 at Jamica Island at the Portsmouth Naval Shipyard. Security at the Shipyard has given me strict instructions on how to gain entry and if they are not followed\, you will not be allowed into the Shipyard. \n1) You must send me the names of every person in your party that will be attending. \n2) I must have that list completed and delivered to Security 3 weeks in advance of our date. You must send the names of your attendees to me and me only as there must be a tight hold on who is coming and that attendance input is best served by one person only. I must hand deliver attendance list to the Ship yard on 28 July to be vetted. \n3) The name that’s on the list must be a 100% match to the name of every person’s  personal picture ID that has to be presented at Gate 1 for entry. Gate 1 is the only that will be open. If the match is not an exact match\, the person will not be allowed to enter. \nThe government has raised the bar on all military installations and the Navy Yard is a top security post. \nPlease get all you attendees names to me as soon a possible. \nThere is no cost to anyone for our picnic. The Seacoast Detachment #394 will be picking up the tab so all we need from you guys is to be there. \nIf there are any specific food needs\, please let me know. \nOur menu is hot dogs\, cheeseburgers\, Italian mild sausage\, baked beans\, macaroni salad\, Beer\, wine (White and Red)\, soft drinks\, water and deserts. \nSemper Fi \nBrad Howe\, PDD  iwojima21945@yahoo.com\nSr Vice Commandant\, Seacoast Detachment #394\, Marine Corps League
URL:https://www.seacoastmarines.org/event/mcl-seacoast-detachment-annual-picnic/
LOCATION:Stratham Hill Park\, Rte 33\, Stratham\, NH
END:VEVENT
END:VCALENDAR