BEGIN:VCALENDAR
VERSION:2.0
PRODID:-//Marine Corps League Seacoast Detachment 394 - ECPv6.15.20//NONSGML v1.0//EN
CALSCALE:GREGORIAN
METHOD:PUBLISH
X-WR-CALNAME:Marine Corps League Seacoast Detachment 394
X-ORIGINAL-URL:https://www.seacoastmarines.org
X-WR-CALDESC:Events for Marine Corps League Seacoast Detachment 394
REFRESH-INTERVAL;VALUE=DURATION:PT1H
X-Robots-Tag:noindex
X-PUBLISHED-TTL:PT1H
BEGIN:VTIMEZONE
TZID:America/New_York
BEGIN:DAYLIGHT
TZOFFSETFROM:-0500
TZOFFSETTO:-0400
TZNAME:EDT
DTSTART:20240310T070000
END:DAYLIGHT
BEGIN:STANDARD
TZOFFSETFROM:-0400
TZOFFSETTO:-0500
TZNAME:EST
DTSTART:20241103T060000
END:STANDARD
BEGIN:DAYLIGHT
TZOFFSETFROM:-0500
TZOFFSETTO:-0400
TZNAME:EDT
DTSTART:20250309T070000
END:DAYLIGHT
BEGIN:STANDARD
TZOFFSETFROM:-0400
TZOFFSETTO:-0500
TZNAME:EST
DTSTART:20251102T060000
END:STANDARD
BEGIN:DAYLIGHT
TZOFFSETFROM:-0500
TZOFFSETTO:-0400
TZNAME:EDT
DTSTART:20260308T070000
END:DAYLIGHT
BEGIN:STANDARD
TZOFFSETFROM:-0400
TZOFFSETTO:-0500
TZNAME:EST
DTSTART:20261101T060000
END:STANDARD
END:VTIMEZONE
BEGIN:VEVENT
DTSTART;TZID=America/New_York:20251015T090000
DTEND;TZID=America/New_York:20251015T100000
DTSTAMP:20260422T181617
CREATED:20251017T174412Z
LAST-MODIFIED:20251017T174412Z
UID:4245-1760518800-1760522400@www.seacoastmarines.org
SUMMARY:Weekly Detachment Breakfast
DESCRIPTION:Come out and join the Seacoast Detachment #394 for breakfast for some great food and conversation.
URL:https://www.seacoastmarines.org/event/weekly-detachment-breakfast-90/
LOCATION:Mainely Local Yokes\, 43 Route 236\, Berwick\, ME\, United States
END:VEVENT
BEGIN:VEVENT
DTSTART;TZID=America/New_York:20251013T190000
DTEND;TZID=America/New_York:20251013T203000
DTSTAMP:20260422T181617
CREATED:20250905T153519Z
LAST-MODIFIED:20250905T153519Z
UID:4188-1760382000-1760387400@www.seacoastmarines.org
SUMMARY:Seacoast Detachment October Monthly Board and Membership Meeting
DESCRIPTION:Please join us for the Seacoast Detachment monthly membership meeting where we discuss upcoming events and the running of the organization.  Join us and share your ideas\, we would love to hear them.
URL:https://www.seacoastmarines.org/event/seacoast-detachment-october-monthly-board-and-membership-meeting-2/
LOCATION:American Legion Post #6\, 96 Islington\, Street\, Portsmouth\, NH\, United States
END:VEVENT
BEGIN:VEVENT
DTSTART;TZID=America/New_York:20251008T090000
DTEND;TZID=America/New_York:20251008T100000
DTSTAMP:20260422T181617
CREATED:20250917T141433Z
LAST-MODIFIED:20250917T141433Z
UID:4206-1759914000-1759917600@www.seacoastmarines.org
SUMMARY:Weekly Detachment Breakfast
DESCRIPTION:Come out and join the Seacoast Detachment #394 for breakfast for some great food and conversation.
URL:https://www.seacoastmarines.org/event/weekly-detachment-breakfast-89/
LOCATION:Copper Lantern\, 54 Lafayette Rd\, Hampton\, NH
END:VEVENT
BEGIN:VEVENT
DTSTART;TZID=America/New_York:20251001T090000
DTEND;TZID=America/New_York:20251001T100000
DTSTAMP:20260422T181617
CREATED:20250917T141356Z
LAST-MODIFIED:20250917T141356Z
UID:4204-1759309200-1759312800@www.seacoastmarines.org
SUMMARY:Weekly Detachment Breakfast
DESCRIPTION:Come out and join the Seacoast Detachment #394 for breakfast for some great food and conversation.
URL:https://www.seacoastmarines.org/event/weekly-detachment-breakfast-88/
LOCATION:Copper Lantern\, 54 Lafayette Rd\, Hampton\, NH
END:VEVENT
BEGIN:VEVENT
DTSTART;TZID=America/New_York:20250927T110000
DTEND;TZID=America/New_York:20250927T160000
DTSTAMP:20260422T181617
CREATED:20250822T203225Z
LAST-MODIFIED:20250822T203225Z
UID:4170-1758970800-1758988800@www.seacoastmarines.org
SUMMARY:Department of NH Quarterly Meeting
DESCRIPTION:Our next Department Meeting will be hosted by Captain Gary S Dillon Detachment #734.  It will be on Saturday September 27  from 11am-4pm and will be held at Old Town Hall\, 91 Bow Center Road\, Bow\, NH.  Please RSVP to Detachment Commandant Melany Nagy no later than 9/20/2025 to allow for planning.
URL:https://www.seacoastmarines.org/event/department-of-nh-quarterly-meeting-5/
LOCATION:Old Town Hall\, 91 Bow Center Road\, Bow\, New Hampshire
ORGANIZER;CN="Department of NH":MAILTO:commandant@nhmarines.org
END:VEVENT
BEGIN:VEVENT
DTSTART;TZID=America/New_York:20250924T090000
DTEND;TZID=America/New_York:20250924T100000
DTSTAMP:20260422T181617
CREATED:20250917T141303Z
LAST-MODIFIED:20250917T141303Z
UID:4202-1758704400-1758708000@www.seacoastmarines.org
SUMMARY:Weekly Detachment Breakfast
DESCRIPTION:Come out and join the Seacoast Detachment #394 for breakfast for some great food and conversation.
URL:https://www.seacoastmarines.org/event/weekly-detachment-breakfast-87/
LOCATION:Copper Lantern\, 54 Lafayette Rd\, Hampton\, NH
END:VEVENT
BEGIN:VEVENT
DTSTART;TZID=America/New_York:20250917T090000
DTEND;TZID=America/New_York:20250917T100000
DTSTAMP:20260422T181617
CREATED:20250917T141225Z
LAST-MODIFIED:20250917T141225Z
UID:4200-1758099600-1758103200@www.seacoastmarines.org
SUMMARY:Weekly Detachment Breakfast
DESCRIPTION:Come out and join the Seacoast Detachment #394 for breakfast for some great food and conversation.
URL:https://www.seacoastmarines.org/event/weekly-detachment-breakfast-86/
LOCATION:Copper Lantern\, 54 Lafayette Rd\, Hampton\, NH
END:VEVENT
BEGIN:VEVENT
DTSTART;TZID=America/New_York:20250910T090000
DTEND;TZID=America/New_York:20250910T100000
DTSTAMP:20260422T181617
CREATED:20250917T141134Z
LAST-MODIFIED:20250917T141134Z
UID:4197-1757494800-1757498400@www.seacoastmarines.org
SUMMARY:Weekly Detachment Breakfast
DESCRIPTION:Come out and join the Seacoast Detachment #394 for breakfast for some great food and conversation.
URL:https://www.seacoastmarines.org/event/weekly-detachment-breakfast-85/
LOCATION:Copper Lantern\, 54 Lafayette Rd\, Hampton\, NH
END:VEVENT
BEGIN:VEVENT
DTSTART;TZID=America/New_York:20250908T190000
DTEND;TZID=America/New_York:20250908T203000
DTSTAMP:20260422T181617
CREATED:20250709T161346Z
LAST-MODIFIED:20250709T161346Z
UID:4135-1757358000-1757363400@www.seacoastmarines.org
SUMMARY:Seacoast Detachment September Monthly Board and Membership Meeting
DESCRIPTION:Please join us for the Seacoast Detachment monthly membership meeting where we discuss upcoming events and the running of the organization.  Join us and share your ideas\, we would love to hear them.
URL:https://www.seacoastmarines.org/event/seacoast-detachment-september-monthly-board-and-membership-meeting-2/
LOCATION:American Legion Post #6\, 96 Islington\, Street\, Portsmouth\, NH\, United States
END:VEVENT
BEGIN:VEVENT
DTSTART;TZID=America/New_York:20250903T090000
DTEND;TZID=America/New_York:20250903T100000
DTSTAMP:20260422T181617
CREATED:20250721T174342Z
LAST-MODIFIED:20250721T174342Z
UID:4150-1756890000-1756893600@www.seacoastmarines.org
SUMMARY:Weekly Detachment Breakfast
DESCRIPTION:Come out and join the Seacoast Detachment #394 for breakfast for some great food and conversation.
URL:https://www.seacoastmarines.org/event/weekly-detachment-breakfast-84/
LOCATION:Golden Egg Diner\, 72 Mirona Rd.\, Portsmouth\, NH\, United States
END:VEVENT
BEGIN:VEVENT
DTSTART;TZID=America/New_York:20250827T090000
DTEND;TZID=America/New_York:20250827T100000
DTSTAMP:20260422T181617
CREATED:20250721T174311Z
LAST-MODIFIED:20250721T174311Z
UID:4148-1756285200-1756288800@www.seacoastmarines.org
SUMMARY:Weekly Detachment Breakfast
DESCRIPTION:Come out and join the Seacoast Detachment #394 for breakfast for some great food and conversation.
URL:https://www.seacoastmarines.org/event/weekly-detachment-breakfast-83/
LOCATION:Golden Egg Diner\, 72 Mirona Rd.\, Portsmouth\, NH\, United States
END:VEVENT
BEGIN:VEVENT
DTSTART;TZID=America/New_York:20250823T120000
DTEND;TZID=America/New_York:20250823T153000
DTSTAMP:20260422T181617
CREATED:20250506T162355Z
LAST-MODIFIED:20250814T205721Z
UID:4064-1755950400-1755963000@www.seacoastmarines.org
SUMMARY:MCL Seacoast Detachment Annual Picnic
DESCRIPTION:Update – change of date and location.\nMoved to Stratham Hill Park on Rte 33 in Stratham\, NH and will be one week later on August 23rd.\nLadies and Gentlemen\, \nAfter spinning my wheels with the Navy for two months\, we have two changes to our picnic. First\, we have a date change to 23 August and a venue change to Stratham Hill Park. SHP is right on Rte 33 obviously in Stratham. There is plenty of parking and wide open area for games or baseball\, restrooms\, everything!!!  \nIf you want to come\, great\, just show up. No sign up lists\, no vetting\, no nothing so just show up. We welcome all!! \nSHP is easy to get to. If you coming East on Rte. 101\, take Exit 11 and at the bottom of the exit ramp\, take a left. You are on Rte 33\, stay on it right up to the Park.  \nComing up or down Rte 95\, take Exit 3. Northbound\, take a left at the end of ramp exit and stay on that road Rte 33. Southbound\, again Exit 3 and when you get to the bottom of ramp\, you are on Rte 33. \nIf anybody has any questions\, email me at the above address or call or text me at 603 571 4620. \nSee ya all there \nBrad Howe\, PDD \n \nMarines\, \nOur annual picnic this year will be on August 16 starting at 1200 to 1530 at Jamica Island at the Portsmouth Naval Shipyard. Security at the Shipyard has given me strict instructions on how to gain entry and if they are not followed\, you will not be allowed into the Shipyard. \n1) You must send me the names of every person in your party that will be attending. \n2) I must have that list completed and delivered to Security 3 weeks in advance of our date. You must send the names of your attendees to me and me only as there must be a tight hold on who is coming and that attendance input is best served by one person only. I must hand deliver attendance list to the Ship yard on 28 July to be vetted. \n3) The name that’s on the list must be a 100% match to the name of every person’s  personal picture ID that has to be presented at Gate 1 for entry. Gate 1 is the only that will be open. If the match is not an exact match\, the person will not be allowed to enter. \nThe government has raised the bar on all military installations and the Navy Yard is a top security post. \nPlease get all you attendees names to me as soon a possible. \nThere is no cost to anyone for our picnic. The Seacoast Detachment #394 will be picking up the tab so all we need from you guys is to be there. \nIf there are any specific food needs\, please let me know. \nOur menu is hot dogs\, cheeseburgers\, Italian mild sausage\, baked beans\, macaroni salad\, Beer\, wine (White and Red)\, soft drinks\, water and deserts. \nSemper Fi \nBrad Howe\, PDD  iwojima21945@yahoo.com\nSr Vice Commandant\, Seacoast Detachment #394\, Marine Corps League
URL:https://www.seacoastmarines.org/event/mcl-seacoast-detachment-annual-picnic/
LOCATION:Stratham Hill Park\, Rte 33\, Stratham\, NH
END:VEVENT
BEGIN:VEVENT
DTSTART;TZID=America/New_York:20250820T090000
DTEND;TZID=America/New_York:20250820T100000
DTSTAMP:20260422T181617
CREATED:20250721T174230Z
LAST-MODIFIED:20250721T174230Z
UID:4146-1755680400-1755684000@www.seacoastmarines.org
SUMMARY:Weekly Detachment Breakfast
DESCRIPTION:Come out and join the Seacoast Detachment #394 for breakfast for some great food and conversation.
URL:https://www.seacoastmarines.org/event/weekly-detachment-breakfast-82/
LOCATION:Golden Egg Diner\, 72 Mirona Rd.\, Portsmouth\, NH\, United States
END:VEVENT
BEGIN:VEVENT
DTSTART;TZID=America/New_York:20250813T090000
DTEND;TZID=America/New_York:20250813T100000
DTSTAMP:20260422T181617
CREATED:20250721T174151Z
LAST-MODIFIED:20250721T174151Z
UID:4144-1755075600-1755079200@www.seacoastmarines.org
SUMMARY:Weekly Detachment Breakfast
DESCRIPTION:Come out and join the Seacoast Detachment #394 for breakfast for some great food and conversation.
URL:https://www.seacoastmarines.org/event/weekly-detachment-breakfast-81/
LOCATION:Golden Egg Diner\, 72 Mirona Rd.\, Portsmouth\, NH\, United States
END:VEVENT
BEGIN:VEVENT
DTSTART;TZID=America/New_York:20250811T190000
DTEND;TZID=America/New_York:20250811T203000
DTSTAMP:20260422T181617
CREATED:20250709T161302Z
LAST-MODIFIED:20250709T161302Z
UID:4133-1754938800-1754944200@www.seacoastmarines.org
SUMMARY:Seacoast Detachment August Monthly Board and Membership Meeting
DESCRIPTION:Please join us for the Seacoast Detachment monthly membership meeting where we discuss upcoming events and the running of the organization.  Join us and share your ideas\, we would love to hear them.
URL:https://www.seacoastmarines.org/event/seacoast-detachment-august-monthly-board-and-membership-meeting-2/
LOCATION:American Legion Post #6\, 96 Islington\, Street\, Portsmouth\, NH\, United States
END:VEVENT
BEGIN:VEVENT
DTSTART;TZID=America/New_York:20250811T080000
DTEND;TZID=America/New_York:20250815T170000
DTSTAMP:20260422T181617
CREATED:20250207T163240Z
LAST-MODIFIED:20250207T163240Z
UID:3981-1754899200-1755277200@www.seacoastmarines.org
SUMMARY:2025 MCL National Convention
DESCRIPTION:Please refer to pages 11-12 of the NE Div Newsletter for all details of national convention.
URL:https://www.seacoastmarines.org/event/2025-mcl-national-convention/
LOCATION:Hyatt Regency DFW International Airport\, 2334 N. International PKWY\, DFW Airport\, TX\, 75261
END:VEVENT
BEGIN:VEVENT
DTSTART;TZID=America/New_York:20250806T090000
DTEND;TZID=America/New_York:20250806T100000
DTSTAMP:20260422T181617
CREATED:20250721T174107Z
LAST-MODIFIED:20250721T174107Z
UID:4142-1754470800-1754474400@www.seacoastmarines.org
SUMMARY:Weekly Detachment Breakfast
DESCRIPTION:Come out and join the Seacoast Detachment #394 for breakfast for some great food and conversation.
URL:https://www.seacoastmarines.org/event/weekly-detachment-breakfast-80/
LOCATION:Golden Egg Diner\, 72 Mirona Rd.\, Portsmouth\, NH\, United States
END:VEVENT
BEGIN:VEVENT
DTSTART;TZID=America/New_York:20250730T090000
DTEND;TZID=America/New_York:20250730T100000
DTSTAMP:20260422T181617
CREATED:20250721T174030Z
LAST-MODIFIED:20250721T174030Z
UID:4140-1753866000-1753869600@www.seacoastmarines.org
SUMMARY:Weekly Detachment Breakfast
DESCRIPTION:Come out and join the Seacoast Detachment #394 for breakfast for some great food and conversation.
URL:https://www.seacoastmarines.org/event/weekly-detachment-breakfast-79/
LOCATION:Golden Egg Diner\, 72 Mirona Rd.\, Portsmouth\, NH\, United States
END:VEVENT
BEGIN:VEVENT
DTSTART;TZID=America/New_York:20250723T090000
DTEND;TZID=America/New_York:20250723T100000
DTSTAMP:20260422T181617
CREATED:20250721T173952Z
LAST-MODIFIED:20250721T173952Z
UID:4138-1753261200-1753264800@www.seacoastmarines.org
SUMMARY:Weekly Detachment Breakfast
DESCRIPTION:Come out and join the Seacoast Detachment #394 for breakfast for some great food and conversation.
URL:https://www.seacoastmarines.org/event/weekly-detachment-breakfast-78/
LOCATION:Golden Egg Diner\, 72 Mirona Rd.\, Portsmouth\, NH\, United States
END:VEVENT
BEGIN:VEVENT
DTSTART;TZID=America/New_York:20250714T190000
DTEND;TZID=America/New_York:20250714T203000
DTSTAMP:20260422T181617
CREATED:20250709T161201Z
LAST-MODIFIED:20250709T161201Z
UID:4131-1752519600-1752525000@www.seacoastmarines.org
SUMMARY:Seacoast Detachment July Monthly Board and Membership Meeting
DESCRIPTION:Please join us for the Seacoast Detachment monthly membership meeting where we discuss upcoming events and the running of the organization.  Join us and share your ideas\, we would love to hear them.
URL:https://www.seacoastmarines.org/event/seacoast-detachment-july-monthly-board-and-membership-meeting/
LOCATION:American Legion Post #6\, 96 Islington\, Street\, Portsmouth\, NH\, United States
END:VEVENT
BEGIN:VEVENT
DTSTART;TZID=America/New_York:20250709T090000
DTEND;TZID=America/New_York:20250709T100000
DTSTAMP:20260422T181617
CREATED:20250610T140722Z
LAST-MODIFIED:20250610T140722Z
UID:4103-1752051600-1752055200@www.seacoastmarines.org
SUMMARY:Weekly Detachment Breakfast
DESCRIPTION:Come out and join the Seacoast Detachment #394 for breakfast for some great food and conversation.
URL:https://www.seacoastmarines.org/event/weekly-detachment-breakfast-77/
LOCATION:Cafe Espresso\, 800 Islington St.\, Portsmouth\, NH\, 03801\, United States
END:VEVENT
BEGIN:VEVENT
DTSTART;TZID=America/New_York:20250702T090000
DTEND;TZID=America/New_York:20250702T100000
DTSTAMP:20260422T181617
CREATED:20250610T140613Z
LAST-MODIFIED:20250610T140613Z
UID:4101-1751446800-1751450400@www.seacoastmarines.org
SUMMARY:Weekly Detachment Breakfast
DESCRIPTION:Come out and join the Seacoast Detachment #394 for breakfast for some great food and conversation.
URL:https://www.seacoastmarines.org/event/weekly-detachment-breakfast-76/
LOCATION:Cafe Espresso\, 800 Islington St.\, Portsmouth\, NH\, 03801\, United States
END:VEVENT
BEGIN:VEVENT
DTSTART;TZID=America/New_York:20250625T090000
DTEND;TZID=America/New_York:20250625T100000
DTSTAMP:20260422T181617
CREATED:20250610T140526Z
LAST-MODIFIED:20250610T140526Z
UID:4099-1750842000-1750845600@www.seacoastmarines.org
SUMMARY:Weekly Detachment Breakfast
DESCRIPTION:Come out and join the Seacoast Detachment #394 for breakfast for some great food and conversation.
URL:https://www.seacoastmarines.org/event/weekly-detachment-breakfast-75/
LOCATION:Cafe Espresso\, 800 Islington St.\, Portsmouth\, NH\, 03801\, United States
END:VEVENT
BEGIN:VEVENT
DTSTART;TZID=America/New_York:20250618T090000
DTEND;TZID=America/New_York:20250618T100000
DTSTAMP:20260422T181617
CREATED:20250610T140445Z
LAST-MODIFIED:20250610T140445Z
UID:4097-1750237200-1750240800@www.seacoastmarines.org
SUMMARY:Weekly Detachment Breakfast
DESCRIPTION:Come out and join the Seacoast Detachment #394 for breakfast for some great food and conversation.
URL:https://www.seacoastmarines.org/event/weekly-detachment-breakfast-74/
LOCATION:Cafe Espresso\, 800 Islington St.\, Portsmouth\, NH\, 03801\, United States
END:VEVENT
BEGIN:VEVENT
DTSTART;TZID=America/New_York:20250614T120000
DTEND;TZID=America/New_York:20250614T150000
DTSTAMP:20260422T181617
CREATED:20250501T131915Z
LAST-MODIFIED:20250501T131915Z
UID:4054-1749902400-1749913200@www.seacoastmarines.org
SUMMARY:Department of NH Quarterly Meeting
DESCRIPTION:Our next Department meeting will occur on Saturday\, June 14th.  It will be hosted by Seacoast Detachment and the address is 69 High Street\, Hampton NH 03842. Please RSVP to Bob Niver revim167@gmail.com if you are coming. \nAlso\, please email Mike Martioski @ dpnhmcladj@yahoo.com no later than Saturday June 7th with items for discussion during the New Business session of our meeting. Only submit items if you will be there.  We cannot discuss them for your or by proxy. \nDirections to American Legion Post 35:  very easy to get to from Manchester\, or Concord for anyone heading East: take 101 East bound to Exit 13\, Route 27 into Hampton (1 mile) you come to a major intersection\, stay in the middle lane and as the light permits go straight ahead and enter High Street.  Post 35 is just a few blocks on the right.  Go pass the house and turn right onto the driveway and into a large parking lot in the back.
URL:https://www.seacoastmarines.org/event/department-of-nh-quarterly-meeting-4/
LOCATION:American Legion Post 35\, 69 High Street\, Hampton\, NH\, 03842\, United States
ORGANIZER;CN="Department of NH":MAILTO:commandant@nhmarines.org
END:VEVENT
BEGIN:VEVENT
DTSTART;TZID=America/New_York:20250611T090000
DTEND;TZID=America/New_York:20250611T100000
DTSTAMP:20260422T181617
CREATED:20250610T140326Z
LAST-MODIFIED:20250610T140326Z
UID:4095-1749632400-1749636000@www.seacoastmarines.org
SUMMARY:Weekly Detachment Breakfast
DESCRIPTION:Come out and join the Seacoast Detachment #394 for breakfast for some great food and conversation.
URL:https://www.seacoastmarines.org/event/weekly-detachment-breakfast-73/
LOCATION:Cafe Espresso\, 800 Islington St.\, Portsmouth\, NH\, 03801\, United States
END:VEVENT
BEGIN:VEVENT
DTSTART;TZID=America/New_York:20250609T190000
DTEND;TZID=America/New_York:20250609T203000
DTSTAMP:20260422T181617
CREATED:20250402T123919Z
LAST-MODIFIED:20250402T124056Z
UID:4025-1749495600-1749501000@www.seacoastmarines.org
SUMMARY:Seacoast Detachment June Monthly Board and Membership Meeting
DESCRIPTION:Please join us for the Seacoast Detachment monthly membership meeting where we discuss upcoming events and the running of the organization.  Join us and share your ideas\, we would love to hear them.
URL:https://www.seacoastmarines.org/event/seacoast-detachment-march-monthly-board-and-membership-meeting-4/
LOCATION:American Legion Post #6\, 96 Islington\, Street\, Portsmouth\, NH\, United States
END:VEVENT
BEGIN:VEVENT
DTSTART;TZID=America/New_York:20250604T090000
DTEND;TZID=America/New_York:20250604T100000
DTSTAMP:20260422T181617
CREATED:20250513T200356Z
LAST-MODIFIED:20250513T200356Z
UID:4078-1749027600-1749031200@www.seacoastmarines.org
SUMMARY:Weekly Detachment Breakfast
DESCRIPTION:Come out and join the Seacoast Detachment #394 for breakfast for some great food and conversation.
URL:https://www.seacoastmarines.org/event/weekly-detachment-breakfast-72/
LOCATION:Mainely Local Yokes\, 43 Route 236\, Berwick\, ME\, United States
END:VEVENT
BEGIN:VEVENT
DTSTART;TZID=America/New_York:20250528T090000
DTEND;TZID=America/New_York:20250528T100000
DTSTAMP:20260422T181617
CREATED:20250513T200314Z
LAST-MODIFIED:20250513T200314Z
UID:4076-1748422800-1748426400@www.seacoastmarines.org
SUMMARY:Weekly Detachment Breakfast
DESCRIPTION:Come out and join the Seacoast Detachment #394 for breakfast for some great food and conversation.
URL:https://www.seacoastmarines.org/event/weekly-detachment-breakfast-71/
LOCATION:Mainely Local Yokes\, 43 Route 236\, Berwick\, ME\, United States
END:VEVENT
BEGIN:VEVENT
DTSTART;TZID=America/New_York:20250524T090000
DTEND;TZID=America/New_York:20250524T150000
DTSTAMP:20260422T181617
CREATED:20250506T162646Z
LAST-MODIFIED:20250506T162646Z
UID:4067-1748077200-1748098800@www.seacoastmarines.org
SUMMARY:Seacoast Detachment Fundraiser Event
DESCRIPTION:Volunteers from the Seacoast Detachment will be at the Market Baskets in Portsmouth on Woodbury Ave and Lafayette Road on May 24th from 9am-3pm.  Let your friends and family know to come out and support MCL and our mission and get their holiday shopping done all at the same time.
URL:https://www.seacoastmarines.org/event/seacoast-detachment-fundraiser-event/
LOCATION:Market Basket\, Portsmouth\, NH\, United States
END:VEVENT
END:VCALENDAR