BEGIN:VCALENDAR
VERSION:2.0
PRODID:-//Marine Corps League Seacoast Detachment 394 - ECPv6.15.20//NONSGML v1.0//EN
CALSCALE:GREGORIAN
METHOD:PUBLISH
X-WR-CALNAME:Marine Corps League Seacoast Detachment 394
X-ORIGINAL-URL:https://www.seacoastmarines.org
X-WR-CALDESC:Events for Marine Corps League Seacoast Detachment 394
REFRESH-INTERVAL;VALUE=DURATION:PT1H
X-Robots-Tag:noindex
X-PUBLISHED-TTL:PT1H
BEGIN:VTIMEZONE
TZID:America/New_York
BEGIN:DAYLIGHT
TZOFFSETFROM:-0500
TZOFFSETTO:-0400
TZNAME:EDT
DTSTART:20230312T070000
END:DAYLIGHT
BEGIN:STANDARD
TZOFFSETFROM:-0400
TZOFFSETTO:-0500
TZNAME:EST
DTSTART:20231105T060000
END:STANDARD
BEGIN:DAYLIGHT
TZOFFSETFROM:-0500
TZOFFSETTO:-0400
TZNAME:EDT
DTSTART:20240310T070000
END:DAYLIGHT
BEGIN:STANDARD
TZOFFSETFROM:-0400
TZOFFSETTO:-0500
TZNAME:EST
DTSTART:20241103T060000
END:STANDARD
BEGIN:DAYLIGHT
TZOFFSETFROM:-0500
TZOFFSETTO:-0400
TZNAME:EDT
DTSTART:20250309T070000
END:DAYLIGHT
BEGIN:STANDARD
TZOFFSETFROM:-0400
TZOFFSETTO:-0500
TZNAME:EST
DTSTART:20251102T060000
END:STANDARD
BEGIN:DAYLIGHT
TZOFFSETFROM:-0500
TZOFFSETTO:-0400
TZNAME:EDT
DTSTART:20260308T070000
END:DAYLIGHT
BEGIN:STANDARD
TZOFFSETFROM:-0400
TZOFFSETTO:-0500
TZNAME:EST
DTSTART:20261101T060000
END:STANDARD
END:VTIMEZONE
BEGIN:VEVENT
DTSTART;TZID=America/New_York:20250113T190000
DTEND;TZID=America/New_York:20250113T203000
DTSTAMP:20260423T043706
CREATED:20241129T192923Z
LAST-MODIFIED:20241129T193112Z
UID:3954-1736794800-1736800200@www.seacoastmarines.org
SUMMARY:Seacoast Detachment January Monthly Board and Membership Meeting
DESCRIPTION:Please join us for the Seacoast Detachment monthly membership meeting where we discuss upcoming events and the running of the organization.  Join us and share your ideas\, we would love to hear them.
URL:https://www.seacoastmarines.org/event/seacoast-detachment-december-monthly-board-and-membership-meeting-2/
LOCATION:American Legion Post #6\, 96 Islington\, Street\, Portsmouth\, NH\, United States
END:VEVENT
BEGIN:VEVENT
DTSTART;TZID=America/New_York:20250108T090000
DTEND;TZID=America/New_York:20250108T100000
DTSTAMP:20260423T043706
CREATED:20241122T171919Z
LAST-MODIFIED:20241122T171919Z
UID:3932-1736326800-1736330400@www.seacoastmarines.org
SUMMARY:Weekly Detachment Breakfast
DESCRIPTION:Come out and join the Seacoast Detachment #394 for breakfast for some great food and conversation.
URL:https://www.seacoastmarines.org/event/weekly-detachment-breakfast-55/
LOCATION:Cafe Espresso\, 800 Islington St.\, Portsmouth\, NH\, 03801\, United States
END:VEVENT
BEGIN:VEVENT
DTSTART;TZID=America/New_York:20241218T090000
DTEND;TZID=America/New_York:20241218T100000
DTSTAMP:20260423T043706
CREATED:20241122T172126Z
LAST-MODIFIED:20241122T172126Z
UID:3936-1734512400-1734516000@www.seacoastmarines.org
SUMMARY:Weekly Detachment Breakfast
DESCRIPTION:Come out and join the Seacoast Detachment #394 for breakfast for some great food and conversation.
URL:https://www.seacoastmarines.org/event/weekly-detachment-breakfast-56/
LOCATION:Cafe Espresso\, 800 Islington St.\, Portsmouth\, NH\, 03801\, United States
END:VEVENT
BEGIN:VEVENT
DTSTART;TZID=America/New_York:20241211T113000
DTEND;TZID=America/New_York:20241211T130000
DTSTAMP:20260423T043706
CREATED:20241108T211154Z
LAST-MODIFIED:20241108T211154Z
UID:3886-1733916600-1733922000@www.seacoastmarines.org
SUMMARY:Together We Served
DESCRIPTION:“Together We Served luncheon” @ 1130 @ Strafford Farms\, Dover\, NH https://www.straffordfarms.com/. U.S. Marine Corps\, New Hampshire & Southern Maine will have their next monthly meeting on 11 Dec 2024. All Marines\, FMF. Navy Corpsmen\, and Chaplains and Spouses are welcome “Membership is Free”. Time for the Gathering of Gyrene’s 1130 on the second Wednesday of the month.
URL:https://www.seacoastmarines.org/event/together-we-served/
LOCATION:Strafford Farms\, Dover\, NH\, United States
END:VEVENT
BEGIN:VEVENT
DTSTART;TZID=America/New_York:20241211T090000
DTEND;TZID=America/New_York:20241211T100000
DTSTAMP:20260423T043706
CREATED:20241122T171830Z
LAST-MODIFIED:20241122T171830Z
UID:3930-1733907600-1733911200@www.seacoastmarines.org
SUMMARY:Weekly Detachment Breakfast
DESCRIPTION:Come out and join the Seacoast Detachment #394 for breakfast for some great food and conversation.
URL:https://www.seacoastmarines.org/event/weekly-detachment-breakfast-54/
LOCATION:Cafe Espresso\, 800 Islington St.\, Portsmouth\, NH\, 03801\, United States
END:VEVENT
BEGIN:VEVENT
DTSTART;TZID=America/New_York:20241209T190000
DTEND;TZID=America/New_York:20241209T203000
DTSTAMP:20260423T043706
CREATED:20241019T222958Z
LAST-MODIFIED:20241019T222958Z
UID:3836-1733770800-1733776200@www.seacoastmarines.org
SUMMARY:Seacoast Detachment December Monthly Board and Membership Meeting
DESCRIPTION:Please join us for the Seacoast Detachment monthly membership meeting where we discuss upcoming events and the running of the organization.  Join us and share your ideas\, we would love to hear them.
URL:https://www.seacoastmarines.org/event/seacoast-detachment-december-monthly-board-and-membership-meeting/
LOCATION:American Legion Post #6\, 96 Islington\, Street\, Portsmouth\, NH\, United States
END:VEVENT
BEGIN:VEVENT
DTSTART;TZID=America/New_York:20241208T130000
DTEND;TZID=America/New_York:20241208T160000
DTSTAMP:20260423T043706
CREATED:20241107T220035Z
LAST-MODIFIED:20241107T220035Z
UID:3881-1733662800-1733673600@www.seacoastmarines.org
SUMMARY:Department of NH Quarterly Meeting
DESCRIPTION:Marines \nWe have the plan for the department meeting.  We are going to meet at Soldiers Memorial Bldg\, 31 North Park Street\, Lebanon\, NH.  The Twin St Detachment will be providing lunch at an estimated cost of $15.00 per person.  Here is the overall agenda: \n1:00 – 1:45 PM Lunch and Social Hour \n1:45 – 2:15 PM Awards & Joint Installation \n2:15 – 3:00 Stocking Stuffing for CHAD (we are going to put together 50 Christmas Stocking for children’s hospital in Dartmouth Children’s Hospital at Dartmouth) \n3:00 – 4:00 Regular Business Meeting \nIf you have items for the business meeting please email me the items. Mike (Adj Paymaster) and I will work on the agenda after our birthday celebrations. \nPlease email Len LeBrun <trawen743@gmail.com> if you will be attending so we can estimate the amount of food to order. \nCody Dumont\n603.785.2665 \nmcl_cody_dumont@melcara.com
URL:https://www.seacoastmarines.org/event/department-of-nh-quarterly-meeting-2/
LOCATION:Soldiers Memorial Bldg\, 31 North Park Street\, Lebanon\, NH\, United States
ORGANIZER;CN="Department of NH":MAILTO:commandant@nhmarines.org
END:VEVENT
BEGIN:VEVENT
DTSTART;TZID=America/New_York:20241207T130000
DTEND;TZID=America/New_York:20241207T180000
DTSTAMP:20260423T043706
CREATED:20240910T183904Z
LAST-MODIFIED:20240910T183904Z
UID:3762-1733576400-1733594400@www.seacoastmarines.org
SUMMARY:New England Division Holiday Party
DESCRIPTION:Attached you will see a flyer for the Division Christmas Luncheon.    I believe this is self-explanatory and Wayne did a nice job putting it together.  Having said that if you have any questions please feel free to reach out.  I will say\, the deposit is something we had to do.  People will say they’re coming and then the day of don’t show so this way here if that’s the case they’re out $25 bucks.   That is per person\, you’ll see when you select your meal you have to leave a deposit for each person. You sign up\, show up\, you’ll get your $25 (deposit) back. \nThere are a limited number of tickets available. \nSemper Fi!! \nPatrick Maguire \nNational Vice Commandant \nNew England Division \nMarine Corps League
URL:https://www.seacoastmarines.org/event/new-england-division-holiday-party/
LOCATION:Thompson\, CT\, 40 CT 193\, Thompson\, CT\, 06277\, United States
END:VEVENT
BEGIN:VEVENT
DTSTART;TZID=America/New_York:20241204T090000
DTEND;TZID=America/New_York:20241204T100000
DTSTAMP:20260423T043706
CREATED:20241119T184607Z
LAST-MODIFIED:20241119T184607Z
UID:3895-1733302800-1733306400@www.seacoastmarines.org
SUMMARY:Weekly Detachment Breakfast
DESCRIPTION:Come out and join the Seacoast Detachment #394 for breakfast for some great food and conversation.
URL:https://www.seacoastmarines.org/event/weekly-detachment-breakfast-53/
LOCATION:Cafe Espresso\, 800 Islington St.\, Portsmouth\, NH\, 03801\, United States
END:VEVENT
BEGIN:VEVENT
DTSTART;TZID=America/New_York:20241127T090000
DTEND;TZID=America/New_York:20241127T100000
DTSTAMP:20260423T043706
CREATED:20241119T184511Z
LAST-MODIFIED:20241119T184511Z
UID:3893-1732698000-1732701600@www.seacoastmarines.org
SUMMARY:Weekly Detachment Breakfast
DESCRIPTION:Come out and join the Seacoast Detachment #394 for breakfast for some great food and conversation.
URL:https://www.seacoastmarines.org/event/weekly-detachment-breakfast-52/
LOCATION:Cafe Espresso\, 800 Islington St.\, Portsmouth\, NH\, 03801\, United States
END:VEVENT
BEGIN:VEVENT
DTSTART;TZID=America/New_York:20241120T113000
DTEND;TZID=America/New_York:20241120T130000
DTSTAMP:20260423T043706
CREATED:20241108T210851Z
LAST-MODIFIED:20241108T210851Z
UID:3884-1732102200-1732107600@www.seacoastmarines.org
SUMMARY:Luncheon @ Trinity Episcopal Church
DESCRIPTION:Luncheon at Trinity Episcopal Church @1130\, High St.\, Hampton\, NH in support of Building Bridges (https://trinityhampton.org/building-bridges/).\no Sign up in advance is required.\no Luncheon will replace morning breakfast get together for that day.
URL:https://www.seacoastmarines.org/event/luncheon-trinity-episcopal-church/
LOCATION:Trinity Episcopal Church\, 200 High St.\, Hampton\, NH\, 03842\, United States
END:VEVENT
BEGIN:VEVENT
DTSTART;TZID=America/New_York:20241113T113000
DTEND;TZID=America/New_York:20241113T130000
DTSTAMP:20260423T043706
CREATED:20241108T211313Z
LAST-MODIFIED:20241108T211313Z
UID:3888-1731497400-1731502800@www.seacoastmarines.org
SUMMARY:Together We Served
DESCRIPTION:“Together We Served luncheon” @ 1130 @ Strafford Farms\, Dover\, NH https://www.straffordfarms.com/. U.S. Marine Corps\, New Hampshire & Southern Maine will have their next monthly meeting on 13 Nov 2024. All Marines\, FMF. Navy Corpsmen\, and Chaplains and Spouses are welcome “Membership is Free”. Time for the Gathering of Gyrene’s 1130 on the second Wednesday of the month.
URL:https://www.seacoastmarines.org/event/together-we-served-2/
LOCATION:Strafford Farms\, Dover\, NH\, United States
END:VEVENT
BEGIN:VEVENT
DTSTART;TZID=America/New_York:20241113T090000
DTEND;TZID=America/New_York:20241113T100000
DTSTAMP:20260423T043706
CREATED:20241019T223344Z
LAST-MODIFIED:20241019T223344Z
UID:3846-1731488400-1731492000@www.seacoastmarines.org
SUMMARY:Weekly Detachment Breakfast
DESCRIPTION:Come out and join the Seacoast Detachment #394 for breakfast for some great food and conversation.
URL:https://www.seacoastmarines.org/event/weekly-detachment-breakfast-51/
LOCATION:Golden Egg Diner\, 72 Mirona Rd.\, Portsmouth\, NH\, United States
END:VEVENT
BEGIN:VEVENT
DTSTART;TZID=America/New_York:20241118T190000
DTEND;TZID=America/New_York:20241118T190000
DTSTAMP:20260423T043706
CREATED:20241007T234121Z
LAST-MODIFIED:20241019T222835Z
UID:3802-1731956400-1731956400@www.seacoastmarines.org
SUMMARY:Seacoast Detachment November Monthly Board and Membership Meeting
DESCRIPTION:Please join us for the Seacoast Detachment monthly membership meeting where we discuss upcoming events and the running of the organization.  Join us and share your ideas\, we would love to hear them.\nInstallation of Detachment Officers
URL:https://www.seacoastmarines.org/event/seacoast-detachment-november-monthly-board-and-membership-meeting/
LOCATION:American Legion Post #6\, 96 Islington\, Street\, Portsmouth\, NH\, United States
END:VEVENT
BEGIN:VEVENT
DTSTART;VALUE=DATE:20241111
DTEND;VALUE=DATE:20241112
DTSTAMP:20260423T043706
CREATED:20240903T202931Z
LAST-MODIFIED:20240903T202931Z
UID:3745-1731283200-1731369599@www.seacoastmarines.org
SUMMARY:Firing Details: Marine Memorial at JPJ Park Kittery
DESCRIPTION:11 Nov 2024. Firing Details: Marine Memorial at JPJ Park Kittery\, Kittery Estates and Goodwin Park\, Portsmouth. \nWatch for more details to follow.
URL:https://www.seacoastmarines.org/event/firing-details-marine-memorial-at-jpj-park-kittery/
LOCATION:NH
END:VEVENT
BEGIN:VEVENT
DTSTART;TZID=America/New_York:20241110T170000
DTEND;TZID=America/New_York:20241110T210000
DTSTAMP:20260423T043706
CREATED:20240903T202757Z
LAST-MODIFIED:20241106T004628Z
UID:3743-1731258000-1731272400@www.seacoastmarines.org
SUMMARY:Marine Corps Birthday Dinner
DESCRIPTION:All Hands\, \nThe following invitation is for all members and guests of the Seacoast Detachment and Department of NH Marine Corps League (DNHMCL) for a celebration of the Corps’ 249th Birthday: \nWHO:  Seacoast Det #394 and DNHMCL members and guests. \nWHAT:  A celebration of our Corps’ 249th Birthday.  Cocktails\, Appetizers\, dinner\, cake cutting\, birthday rituals and camaraderie. \nWHEN:  Sunday\, 10 Nov 2024 starting at 1700 (Cocktails and Appetizers) followed by dinner (individual ordering from the menu). \nWHERE:  The Old Salt Restaurant\, 490 Lafayette Rd. (Rte 1)\, Hampton\, NH 03842 (https://www.oldsaltnh.com/). \nWHY: To celebrate the Corps’ illustrious history\, renew friendships and share in our collective memories of our days in the Corps. \nCOORDINATING INSTRUCTIONS: \nUNIFORM:  Formal Mess Tux\, Formal Red Blazer\, Casual\, civilian equivalent with MCL Cover (see attached PowerPoint presentation for further uniform information).  For Retirees or Active Duty/Reserve\, Dress Blue Alpha or Bravo uniform is appropriate.     \nCOST:  Attendees are only responsible for their drinks and dinner\, the Detachment will cover all other costs. \nACCOMMODATIONS:  Overnight accommodations may be available at Lamie’s Inn (https://www.oldsaltnh.com/lamies-inn/rates-availability/).  There is a Veteran’s rate. Each reservation must be made by the individuals interested. The Detachment will not block rooms or make reservations.   \nEVENT ROOM AVAILABILITY:  The Goody Cole room will not be available until after 1500 on the day of the event.   \nRESERVATIONS FOR THE EVENT:  Contact\, by phone or email\, both event coordinators:  Ray Maher:  raymaher@icloud.com\, 603.765.0919; Bob Niver:  revim167@gmail.com\, 716.485.1634 NLT 6 Nov 2024 to secure your reservation and include the number of your guests.  Please note that seating is limited so early reservations are recommended.   \nHope to see you there.
URL:https://www.seacoastmarines.org/event/marine-corps-birthday-dinner/
LOCATION:Old Salt & Lamies Inn\, 490 Lafayette Rd. (Rte 1)\, Hampton\, NH\, United States
END:VEVENT
BEGIN:VEVENT
DTSTART;VALUE=DATE:20241109
DTEND;VALUE=DATE:20241110
DTSTAMP:20260423T043706
CREATED:20240903T202626Z
LAST-MODIFIED:20240903T202626Z
UID:3741-1731110400-1731196799@www.seacoastmarines.org
SUMMARY:Fund raiser/recruiting event - Market Basket
DESCRIPTION:Fund raiser/recruiting events Portsmouth Market Baskets
URL:https://www.seacoastmarines.org/event/fund-raiser-recruiting-event-market-basket/
LOCATION:Market Basket\, Portsmouth\, NH\, United States
END:VEVENT
BEGIN:VEVENT
DTSTART;TZID=America/New_York:20241106T090000
DTEND;TZID=America/New_York:20241106T100000
DTSTAMP:20260423T043706
CREATED:20241019T223305Z
LAST-MODIFIED:20241019T223305Z
UID:3844-1730883600-1730887200@www.seacoastmarines.org
SUMMARY:Weekly Detachment Breakfast
DESCRIPTION:Come out and join the Seacoast Detachment #394 for breakfast for some great food and conversation.
URL:https://www.seacoastmarines.org/event/weekly-detachment-breakfast-50/
LOCATION:Golden Egg Diner\, 72 Mirona Rd.\, Portsmouth\, NH\, United States
END:VEVENT
BEGIN:VEVENT
DTSTART;TZID=America/New_York:20241030T090000
DTEND;TZID=America/New_York:20241030T100000
DTSTAMP:20260423T043706
CREATED:20241019T223219Z
LAST-MODIFIED:20241019T223219Z
UID:3842-1730278800-1730282400@www.seacoastmarines.org
SUMMARY:Weekly Detachment Breakfast
DESCRIPTION:Come out and join the Seacoast Detachment #394 for breakfast for some great food and conversation.
URL:https://www.seacoastmarines.org/event/weekly-detachment-breakfast-49/
LOCATION:Golden Egg Diner\, 72 Mirona Rd.\, Portsmouth\, NH\, United States
END:VEVENT
BEGIN:VEVENT
DTSTART;TZID=America/New_York:20241023T090000
DTEND;TZID=America/New_York:20241023T100000
DTSTAMP:20260423T043706
CREATED:20241019T223137Z
LAST-MODIFIED:20241019T223137Z
UID:3840-1729674000-1729677600@www.seacoastmarines.org
SUMMARY:Weekly Detachment Breakfast
DESCRIPTION:Come out and join the Seacoast Detachment #394 for breakfast for some great food and conversation.
URL:https://www.seacoastmarines.org/event/weekly-detachment-breakfast-48/
LOCATION:Golden Egg Diner\, 72 Mirona Rd.\, Portsmouth\, NH\, United States
END:VEVENT
BEGIN:VEVENT
DTSTART;TZID=America/New_York:20241016T090000
DTEND;TZID=America/New_York:20241016T100000
DTSTAMP:20260423T043706
CREATED:20241019T223100Z
LAST-MODIFIED:20241019T223100Z
UID:3838-1729069200-1729072800@www.seacoastmarines.org
SUMMARY:Weekly Detachment Breakfast
DESCRIPTION:Come out and join the Seacoast Detachment #394 for breakfast for some great food and conversation.
URL:https://www.seacoastmarines.org/event/weekly-detachment-breakfast-47/
LOCATION:Golden Egg Diner\, 72 Mirona Rd.\, Portsmouth\, NH\, United States
END:VEVENT
BEGIN:VEVENT
DTSTART;TZID=America/New_York:20241014T190000
DTEND;TZID=America/New_York:20241014T203000
DTSTAMP:20260423T043706
CREATED:20240903T202447Z
LAST-MODIFIED:20240903T202447Z
UID:3739-1728932400-1728937800@www.seacoastmarines.org
SUMMARY:Seacoast Detachment October Monthly Board and Membership Meeting
DESCRIPTION:Please join us for the Seacoast Detachment monthly membership meeting where we discuss upcoming events and the running of the organization.  Join us and share your ideas\, we would love to hear them.
URL:https://www.seacoastmarines.org/event/seacoast-detachment-october-monthly-board-and-membership-meeting/
LOCATION:American Legion Post #6\, 96 Islington\, Street\, Portsmouth\, NH\, United States
END:VEVENT
BEGIN:VEVENT
DTSTART;TZID=America/New_York:20241009T113000
DTEND;TZID=America/New_York:20241009T133000
DTSTAMP:20260423T043706
CREATED:20241007T233839Z
LAST-MODIFIED:20241009T152456Z
UID:3800-1728473400-1728480600@www.seacoastmarines.org
SUMMARY:“Together We Served luncheon”
DESCRIPTION:U.S. Marine Corps\, New Hampshire & Southern Maine will have their next monthly meeting on 16 Oct 2024. All Marines\, FMF. Navy Corpsmen\, and Chaplains and Spouses are welcome “Membership is Free”. Time for the Gathering of Gyrene’s 1130 on the second Wednesday of the month.
URL:https://www.seacoastmarines.org/event/together-we-served-luncheon-4/
LOCATION:Strafford Farms\, Dover\, NH\, United States
END:VEVENT
BEGIN:VEVENT
DTSTART;TZID=America/New_York:20241009T090000
DTEND;TZID=America/New_York:20241009T100000
DTSTAMP:20260423T043706
CREATED:20240910T182638Z
LAST-MODIFIED:20240910T182638Z
UID:3760-1728464400-1728468000@www.seacoastmarines.org
SUMMARY:Weekly Detachment Breakfast
DESCRIPTION:Come out and join the Seacoast Detachment #394 for breakfast for some great food and conversation.
URL:https://www.seacoastmarines.org/event/weekly-detachment-breakfast-46/
LOCATION:Mainely Local Yokes\, 43 Route 236\, Berwick\, ME\, United States
END:VEVENT
BEGIN:VEVENT
DTSTART;TZID=America/New_York:20241005T080000
DTEND;TZID=America/New_York:20241005T170000
DTSTAMP:20260423T043706
CREATED:20240430T205931Z
LAST-MODIFIED:20240920T211010Z
UID:3568-1728115200-1728147600@www.seacoastmarines.org
SUMMARY:Apple Harvest Day
DESCRIPTION:Apple Harvest Day\, Dover\, NH: Greater Dover Chamber of Commerce\ninfo@news.dovernh.org \nPlease come join us on October 5th for the 40th annual\, family-friendly Apple Harvest Day in downtown Dover\, NH. The Festival has hundreds of vendors\, live entertainment\, a kid zone with inflatable attractions and roaming train\, a 5k road race\, delicious food\, and more! Please be sure to stop by our booth (#88\, across from Cinco de Mayo Bar and Grill)\, post pictures and use the official #appleharvestday hashtag! For more information visit dovernh.org/ahd. See you soon!
URL:https://www.seacoastmarines.org/event/apple-harvest-day/
LOCATION:Greater Dover Chamber of Commerce\, Dover\, NH\, United States
ORGANIZER;CN="Greater Dover Chamber of Commerce":MAILTO:info@news.dovernh.org
END:VEVENT
BEGIN:VEVENT
DTSTART;TZID=America/New_York:20241002T090000
DTEND;TZID=America/New_York:20241002T100000
DTSTAMP:20260423T043706
CREATED:20240910T182557Z
LAST-MODIFIED:20240910T182557Z
UID:3758-1727859600-1727863200@www.seacoastmarines.org
SUMMARY:Weekly Detachment Breakfast
DESCRIPTION:Come out and join the Seacoast Detachment #394 for breakfast for some great food and conversation.
URL:https://www.seacoastmarines.org/event/weekly-detachment-breakfast-45/
LOCATION:Mainely Local Yokes\, 43 Route 236\, Berwick\, ME\, United States
END:VEVENT
BEGIN:VEVENT
DTSTART;TZID=America/New_York:20240928T090000
DTEND;TZID=America/New_York:20240928T103000
DTSTAMP:20260423T043706
CREATED:20240831T210404Z
LAST-MODIFIED:20240831T210404Z
UID:3728-1727514000-1727519400@www.seacoastmarines.org
SUMMARY:Seacoast Detachment Family Breakfast
DESCRIPTION:All Hands\, \nThe Detachment is having another Family Breakfast on Saturday\, 28 September as follows: \nWHO:  All Detachment members\, family and friends. \nWHAT:  A shared Saturday breakfast at a local restaurant. \nWHEN:  0900\, Saturday\, 28 September. \nWHERE:  Cafe Espresso\, 800 Islington St. Portsmouth\, NH 03801 (https://www.cafe–espresso.com/). \nWHY:  To share in the camaraderie that makes this Detachment so great. \nIf planning on attending\, notify SVC Maher (Text:  603.765.0919; email:  raymaher@icloud.com) NLT Wednesday\, 25 September with the number in your party.  Hope to see you there.
URL:https://www.seacoastmarines.org/event/seacoast-detachment-family-breakfast/
LOCATION:Cafe Espresso\, 800 Islington St.\, Portsmouth\, NH\, 03801\, United States
END:VEVENT
BEGIN:VEVENT
DTSTART;TZID=America/New_York:20240925T090000
DTEND;TZID=America/New_York:20240925T100000
DTSTAMP:20260423T043706
CREATED:20240910T182511Z
LAST-MODIFIED:20240910T182511Z
UID:3756-1727254800-1727258400@www.seacoastmarines.org
SUMMARY:Weekly Detachment Breakfast
DESCRIPTION:Come out and join the Seacoast Detachment #394 for breakfast for some great food and conversation.
URL:https://www.seacoastmarines.org/event/weekly-detachment-breakfast-44/
LOCATION:Mainely Local Yokes\, 43 Route 236\, Berwick\, ME\, United States
END:VEVENT
BEGIN:VEVENT
DTSTART;TZID=America/New_York:20240921T080000
DTEND;TZID=America/New_York:20240921T170000
DTSTAMP:20260423T043706
CREATED:20240430T205528Z
LAST-MODIFIED:20240920T210420Z
UID:3565-1726905600-1726938000@www.seacoastmarines.org
SUMMARY:Seacoast Veterans Conference
DESCRIPTION:Service Credit Union\, Seacoast Veterans Conference\, Portsmouth\, NH \n2024 Seacoast Veterans Conference\nNavigating the Seas of Change\nSeacoast Veterans Conference\nFor Military\, Veterans\, and Families \nSeptember 21\, 2024 \n8:00am-2:00pm \nThe Service Credit Union Impact Foundation is proud to present the 12th Annual Seacoast Veterans Conference on Saturday\, September 21\, 2024\, at Service Credit Union located at 3003 Lafayette Road Portsmouth\, NH. \nJoin us for a day dedicated to educating veterans on resources to better their health and well-being. Registration opens at 8:00 am. Coffee\, light breakfast and lunch will be provided. \nRemember to bring your DD214 for VA Health Care Enrollment with VA Benefits Expert. \nRegister for the event at:  https://seacoastveteransconference.com/ \nTopics and speakers include:\n\nVA Medical Center updates\nCommunity hospitals\, access to care\, and mental health\nVeteran benefits and health care eligibility\nNavigating Tri-Care\, Medicare\, VA\, CHAMPVA\nVeterans Nursing Home\nVA Cemetery\n40+ Veteran resource tables
URL:https://www.seacoastmarines.org/event/seacoast-veterans-conference/
LOCATION:Service Credit Union\, Portsmouth\, NH\, United States
END:VEVENT
BEGIN:VEVENT
DTSTART;TZID=America/New_York:20240921T080000
DTEND;TZID=America/New_York:20240921T170000
DTSTAMP:20260423T043706
CREATED:20240430T205317Z
LAST-MODIFIED:20240430T205608Z
UID:3561-1726905600-1726938000@www.seacoastmarines.org
SUMMARY:Run for the Fallen
DESCRIPTION:Run for the Fallen\, Waterville Valley\, NH (firing detail) (?) http://www.runforthefallennh.com/
URL:https://www.seacoastmarines.org/event/run-for-the-fallen/
LOCATION:Run For The Fallen\, Waterville Valley\, NH\, United States
END:VEVENT
END:VCALENDAR